Workbook
Name Edro: 'Гаусс против Чурова'!$B$4:$B$453
Name Putin: 'Гаусс против Чурова'!$A$4:$A$453
Name Table1: Декабрь!$B$3:$D$450
Name Table2: Декабрь!$B$179:$R$450
Name Table3: Декабрь!$B$3:$R$450

Sheet Декабрь
A1: Район | B1: УИК | C1: Число избирателей в списке | D1: Явка | E1: 1. Политическая партия СПРАВЕДЛИВАЯ РОССИЯ | G1: 2. Политическая партия "Либерально-демократическая партия России" | I1: 3. Политическая партия "ПАТРИОТЫ РОССИИ" | K1: 4. Политическая партия "Коммунистическая партия Российской Федерации" | M1: 5. Политическая партия "Российская объединенная демократическая партия "ЯБЛОКО" | O1: 6. Всероссийская политическая партия "ЕДИНАЯ РОССИЯ" | Q1: 7. Всероссийская политическая партия "ПРАВОЕ ДЕЛО" | S1: Число полученных бюллетеней | T1: Число бюллетеней, выданных в помещении | U1: Число бюллетеней, выданных вне помещения | V1: Число погашенных бюллетеней | W1: Число бюллетеней в переносных ящиках | X1: Число бюллетеней в стационарн. ящиках | Y1: Число недействит. бюллетеней | Z1: Число действит. Бюллетеней | AA1: Число полученных открепит-х | AB1: Число выданных открепит-х | AC1: Число голосов по открепит-м | AD1: Число погашенных открепит-+х | AE1: Число открепит-х , выданных в ТИК | AF1: Число утраченных открепительных | AG1: Число утраченных бюллетеней | AH1: Число бюллетеней, не учтенных при получении
A2: 1 | B2: 2 | C2: 3 | D2: 4 | E2: 5 | F2: 6 | G2: 7 | H2: 8 | I2: 9 | J2: 10 | K2: 11 | L2: 12 | M2: 13 | N2: 14 | O2: 15 | P2: 16 | Q2: 17 | R2: 18
A3: Авиастроительный | B3: 1 | C3: 2837 | D3: =(Y3+Z3)/(C3+AC3-AB3) -> 0.60938603 | E3: 237 | F3: =E3/(O3+M3+K3+I3+G3+E3+Q3+Y3) -> 0.13723219 | G3: 9 | H3: =G3/(O3+M3+K3+I3+G3+E3+Q3+Y3) -> 0.0052113492 | I3: 3 | J3: =I3/(O3+M3+K3+I3+G3+E3+Q3+Y3) -> 0.0017371164 | K3: 365 | L3: =K3/(O3+M3+K3+I3+G3+E3+Q3+Y3) -> 0.21134916 | M3: 6 | N3: =M3/(O3+M3+K3+I3+G3+E3+Q3+Y3) -> 0.0034742328 | O3: 1078 | P3: =O3/(O3+M3+K3+I3+G3+E3+Q3+Y3) -> 0.62420382 | Q3: 1 | R3: =Q3/(O3+M3+K3+I3+G3+E3+Q3+Y3) -> 0.0005790388 | S3: 2700 | T3: 1635 | U3: 92 | V3: 973 | W3: 92 | X3: 1635 | Y3: 28 | Z3: 1699 | AA3: 90 | AB3: 27 | AC3: 24 | AD3: 63 | AE3: 0 | AF3: 0 | AG3: 0 | AH3: 0
A4: Авиастроительный | B4: 2 | C4: 2636 | D4: =(Y4+Z4)/(C4+AC4-AB4) -> 0.59527439 | E4: 196 | F4: =E4/(O4+M4+K4+I4+G4+E4+Q4+Y4) -> 0.12548015 | G4: 33 | H4: =G4/(O4+M4+K4+I4+G4+E4+Q4+Y4) -> 0.021126761 | I4: 0 | J4: =I4/(O4+M4+K4+I4+G4+E4+Q4+Y4) -> 0 | K4: 347 | L4: =K4/(O4+M4+K4+I4+G4+E4+Q4+Y4) -> 0.22215109 | M4: 0 | N4: =M4/(O4+M4+K4+I4+G4+E4+Q4+Y4) -> 0 | O4: 942 | P4: =O4/(O4+M4+K4+I4+G4+E4+Q4+Y4) -> 0.60307298 | Q4: 0 | R4: =Q4/(O4+M4+K4+I4+G4+E4+Q4+Y4) -> 0 | S4: 2500 | T4: 1562 | U4: 83 | V4: 855 | W4: 83 | X4: 1479 | Y4: 44 | Z4: 1518 | AA4: 70 | AB4: 40 | AC4: 28 | AD4: 30 | AE4: 0 | AF4: 0 | AG4: 0 | AH4: 0
A5: Авиастроительный | B5: 3 | C5: 2476 | D5: =(Y5+Z5)/(C5+AC5-AB5) -> 0.72638436 | E5: 208 | F5: =E5/(O5+M5+K5+I5+G5+E5+Q5+Y5) -> 0.11659193 | G5: 188 | H5: =G5/(O5+M5+K5+I5+G5+E5+Q5+Y5) -> 0.10538117 | I5: 18 | J5: =I5/(O5+M5+K5+I5+G5+E5+Q5+Y5) -> 0.010089686 | K5: 289 | L5: =K5/(O5+M5+K5+I5+G5+E5+Q5+Y5) -> 0.16199552 | M5: 69 | N5: =M5/(O5+M5+K5+I5+G5+E5+Q5+Y5) -> 0.03867713 | O5: 964 | P5: =O5/(O5+M5+K5+I5+G5+E5+Q5+Y5) -> 0.54035874 | Q5: 17 | R5: =Q5/(O5+M5+K5+I5+G5+E5+Q5+Y5) -> 0.009529148 | S5: 2350 | T5: 1678 | U5: 106 | V5: 566 | W5: 106 | X5: 1678 | Y5: 31 | Z5: 1753 | AA5: 90 | AB5: 43 | AC5: 23 | AD5: 47 | AE5: 0 | AF5: 0 | AG5: 0 | AH5: 0
A6: Авиастроительный | B6: 4 | C6: 2150 | D6: =(Y6+Z6)/(C6+AC6-AB6) -> 0.70203695 | E6: 228 | F6: =E6/(O6+M6+K6+I6+G6+E6+Q6+Y6) -> 0.15384615 | G6: 26 | H6: =G6/(O6+M6+K6+I6+G6+E6+Q6+Y6) -> 0.01754386 | I6: 10 | J6: =I6/(O6+M6+K6+I6+G6+E6+Q6+Y6) -> 0.0067476383 | K6: 265 | L6: =K6/(O6+M6+K6+I6+G6+E6+Q6+Y6) -> 0.17881242 | M6: 21 | N6: =M6/(O6+M6+K6+I6+G6+E6+Q6+Y6) -> 0.01417004 | O6: 878 | P6: =O6/(O6+M6+K6+I6+G6+E6+Q6+Y6) -> 0.59244265 | Q6: 12 | R6: =Q6/(O6+M6+K6+I6+G6+E6+Q6+Y6) -> 0.008097166 | S6: 2050 | T6: 1467 | U6: 15 | V6: 568 | W6: 15 | X6: 1467 | Y6: 42 | Z6: 1440 | AA6: 90 | AB6: 62 | AC6: 23 | AD6: 28 | AE6: 0 | AF6: 0 | AG6: 0 | AH6: 0
A7: Авиастроительный | B7: 5 | C7: 2537 | D7: =(Y7+Z7)/(C7+AC7-AB7) -> 0.68573699 | E7: 110 | F7: =E7/(O7+M7+K7+I7+G7+E7+Q7+Y7) -> 0.06373117 | G7: 45 | H7: =G7/(O7+M7+K7+I7+G7+E7+Q7+Y7) -> 0.026071842 | I7: 13 | J7: =I7/(O7+M7+K7+I7+G7+E7+Q7+Y7) -> 0.0075318656 | K7: 315 | L7: =K7/(O7+M7+K7+I7+G7+E7+Q7+Y7) -> 0.1825029 | M7: 40 | N7: =M7/(O7+M7+K7+I7+G7+E7+Q7+Y7) -> 0.023174971 | O7: 1166 | P7: =O7/(O7+M7+K7+I7+G7+E7+Q7+Y7) -> 0.67555041 | Q7: 5 | R7: =Q7/(O7+M7+K7+I7+G7+E7+Q7+Y7) -> 0.0028968714 | S7: 2450 | T7: 1694 | U7: 32 | V7: 724 | W7: 32 | X7: 1694 | Y7: 32 | Z7: 1694 | AA7: 90 | AB7: 39 | AC7: 19 | AD7: 51 | AE7: 0 | AF7: 0 | AG7: 0 | AH7: 0
A8: Авиастроительный | B8: 6 | C8: 2280 | D8: =(Y8+Z8)/(C8+AC8-AB8) -> 0.61026533 | E8: 219 | F8: =E8/(O8+M8+K8+I8+G8+E8+Q8+Y8) -> 0.15609408 | G8: 80 | H8: =G8/(O8+M8+K8+I8+G8+E8+Q8+Y8) -> 0.05702067 | I8: 9 | J8: =I8/(O8+M8+K8+I8+G8+E8+Q8+Y8) -> 0.0064148254 | K8: 273 | L8: =K8/(O8+M8+K8+I8+G8+E8+Q8+Y8) -> 0.19458304 | M8: 15 | N8: =M8/(O8+M8+K8+I8+G8+E8+Q8+Y8) -> 0.010691376 | O8: 764 | P8: =O8/(O8+M8+K8+I8+G8+E8+Q8+Y8) -> 0.5445474 | Q8: 10 | R8: =Q8/(O8+M8+K8+I8+G8+E8+Q8+Y8) -> 0.0071275837 | S8: 2150 | T8: 1340 | U8: 63 | V8: 747 | W8: 63 | X8: 1340 | Y8: 33 | Z8: 1370 | AA8: 80 | AB8: 26 | AC8: 45 | AD8: 54 | AE8: 0 | AF8: 0 | AG8: 0 | AH8: 0
A9: Авиастроительный | B9: 7 | C9: 2420 | D9: =(Y9+Z9)/(C9+AC9-AB9) -> 0.61213389 | E9: 225 | F9: =E9/(O9+M9+K9+I9+G9+E9+Q9+Y9) -> 0.15379357 | G9: 93 | H9: =G9/(O9+M9+K9+I9+G9+E9+Q9+Y9) -> 0.063568011 | I9: 12 | J9: =I9/(O9+M9+K9+I9+G9+E9+Q9+Y9) -> 0.008202324 | K9: 148 | L9: =K9/(O9+M9+K9+I9+G9+E9+Q9+Y9) -> 0.101162 | M9: 20 | N9: =M9/(O9+M9+K9+I9+G9+E9+Q9+Y9) -> 0.01367054 | O9: 916 | P9: =O9/(O9+M9+K9+I9+G9+E9+Q9+Y9) -> 0.62611073 | Q9: 10 | R9: =Q9/(O9+M9+K9+I9+G9+E9+Q9+Y9) -> 0.00683527 | S9: 2300 | T9: 1343 | U9: 120 | V9: 837 | W9: 120 | X9: 1343 | Y9: 39 | Z9: 1424 | AA9: 90 | AB9: 49 | AC9: 19 | AD9: 41 | AE9: 1 | AF9: 0 | AG9: 0 | AH9: 0
A10: Авиастроительный | B10: 8 | C10: 2709 | D10: =(Y10+Z10)/(C10+AC10-AB10) -> 0.61784387 | E10: 316 | F10: =E10/(O10+M10+K10+I10+G10+E10+Q10+Y10) -> 0.19013237 | G10: 227 | H10: =G10/(O10+M10+K10+I10+G10+E10+Q10+Y10) -> 0.13658243 | I10: 22 | J10: =I10/(O10+M10+K10+I10+G10+E10+Q10+Y10) -> 0.013237064 | K10: 391 | L10: =K10/(O10+M10+K10+I10+G10+E10+Q10+Y10) -> 0.23525872 | M10: 85 | N10: =M10/(O10+M10+K10+I10+G10+E10+Q10+Y10) -> 0.051143201 | O10: 564 | P10: =O10/(O10+M10+K10+I10+G10+E10+Q10+Y10) -> 0.33935018 | Q10: 12 | R10: =Q10/(O10+M10+K10+I10+G10+E10+Q10+Y10) -> 0.0072202166 | S10: 2600 | T10: 1601 | U10: 63 | V10: 936 | W10: 63 | X10: 1599 | Y10: 45 | Z10: 1617 | AA10: 90 | AB10: 42 | AC10: 23 | AD10: 48 | AE10: 0 | AF10: 0 | AG10: 0 | AH10: 0
A11: Авиастроительный | B11: 9 | C11: 2379 | D11: =(Y11+Z11)/(C11+AC11-AB11) -> 0.55927943 | E11: 223 | F11: =E11/(O11+M11+K11+I11+G11+E11+Q11+Y11) -> 0.1670412 | G11: 21 | H11: =G11/(O11+M11+K11+I11+G11+E11+Q11+Y11) -> 0.015730337 | I11: 5 | J11: =I11/(O11+M11+K11+I11+G11+E11+Q11+Y11) -> 0.0037453184 | K11: 262 | L11: =K11/(O11+M11+K11+I11+G11+E11+Q11+Y11) -> 0.19625468 | M11: 9 | N11: =M11/(O11+M11+K11+I11+G11+E11+Q11+Y11) -> 0.006741573 | O11: 788 | P11: =O11/(O11+M11+K11+I11+G11+E11+Q11+Y11) -> 0.59026217 | Q11: 5 | R11: =Q11/(O11+M11+K11+I11+G11+E11+Q11+Y11) -> 0.0037453184 | S11: 2250 | T11: 1212 | U11: 123 | V11: 915 | W11: 123 | X11: 1212 | Y11: 22 | Z11: 1313 | AA11: 80 | AB11: 29 | AC11: 37 | AD11: 51 | AE11: 1 | AF11: 0 | AG11: 0 | AH11: 0
A12: Авиастроительный | B12: 10 | C12: 2723 | D12: =(Y12+Z12)/(C12+AC12-AB12) -> 0.74695235 | E12: 220 | F12: =E12/(O12+M12+K12+I12+G12+E12+Q12+Y12) -> 0.10880317 | G12: 131 | H12: =G12/(O12+M12+K12+I12+G12+E12+Q12+Y12) -> 0.064787339 | I12: 11 | J12: =I12/(O12+M12+K12+I12+G12+E12+Q12+Y12) -> 0.0054401583 | K12: 226 | L12: =K12/(O12+M12+K12+I12+G12+E12+Q12+Y12) -> 0.11177052 | M12: 55 | N12: =M12/(O12+M12+K12+I12+G12+E12+Q12+Y12) -> 0.027200791 | O12: 1321 | P12: =O12/(O12+M12+K12+I12+G12+E12+Q12+Y12) -> 0.65331355 | Q12: 11 | R12: =Q12/(O12+M12+K12+I12+G12+E12+Q12+Y12) -> 0.0054401583 | S12: 2600 | T12: 1907 | U12: 115 | V12: 578 | W12: 115 | X12: 1907 | Y12: 47 | Z12: 1975 | AA12: 100 | AB12: 41 | AC12: 25 | AD12: 59 | AE12: 0 | AF12: 0 | AG12: 0 | AH12: 0
A13: Авиастроительный | B13: 11 | C13: 2648 | D13: =(Y13+Z13)/(C13+AC13-AB13) -> 0.61450382 | E13: 222 | F13: =E13/(O13+M13+K13+I13+G13+E13+Q13+Y13) -> 0.1378882 | G13: 140 | H13: =G13/(O13+M13+K13+I13+G13+E13+Q13+Y13) -> 0.086956522 | I13: 10 | J13: =I13/(O13+M13+K13+I13+G13+E13+Q13+Y13) -> 0.0062111801 | K13: 149 | L13: =K13/(O13+M13+K13+I13+G13+E13+Q13+Y13) -> 0.092546584 | M13: 71 | N13: =M13/(O13+M13+K13+I13+G13+E13+Q13+Y13) -> 0.044099379 | O13: 978 | P13: =O13/(O13+M13+K13+I13+G13+E13+Q13+Y13) -> 0.60745342 | Q13: 11 | R13: =Q13/(O13+M13+K13+I13+G13+E13+Q13+Y13) -> 0.0068322981 | S13: 2500 | T13: 1597 | U13: 24 | V13: 879 | W13: 24 | X13: 1586 | Y13: 29 | Z13: 1581 | AA13: 100 | AB13: 55 | AC13: 27 | AD13: 45 | AE13: 1 | AF13: 0 | AG13: 0 | AH13: 0
A14: Авиастроительный | B14: 12 | C14: 2981 | D14: =(Y14+Z14)/(C14+AC14-AB14) -> 0.634278 | E14: 140 | F14: =E14/(O14+M14+K14+I14+G14+E14+Q14+Y14) -> 0.074468085 | G14: 72 | H14: =G14/(O14+M14+K14+I14+G14+E14+Q14+Y14) -> 0.038297872 | I14: 18 | J14: =I14/(O14+M14+K14+I14+G14+E14+Q14+Y14) -> 0.0095744681 | K14: 312 | L14: =K14/(O14+M14+K14+I14+G14+E14+Q14+Y14) -> 0.16595745 | M14: 42 | N14: =M14/(O14+M14+K14+I14+G14+E14+Q14+Y14) -> 0.022340426 | O14: 1216 | P14: =O14/(O14+M14+K14+I14+G14+E14+Q14+Y14) -> 0.64680851 | Q14: 23 | R14: =Q14/(O14+M14+K14+I14+G14+E14+Q14+Y14) -> 0.012234043 | S14: 2800 | T14: 1737 | U14: 143 | V14: 920 | W14: 143 | X14: 1737 | Y14: 57 | Z14: 1823 | AA14: 110 | AB14: 40 | AC14: 23 | AD14: 70 | AE14: 0 | AF14: 0 | AG14: 0 | AH14: 0
... A450: Советский | B450: 450 | C450: 69 | D450: =(Y450+Z450)/(C450+AC450-AB450) -> 0.88461538 | E450: 5 | F450: =E450/(O450+M450+K450+I450+G450+E450+Q450+Y450) -> 0.072463768 | G450: 9 | H450: =G450/(O450+M450+K450+I450+G450+E450+Q450+Y450) -> 0.13043478 | I450: 0 | J450: =I450/(O450+M450+K450+I450+G450+E450+Q450+Y450) -> 0 | K450: 9 | L450: =K450/(O450+M450+K450+I450+G450+E450+Q450+Y450) -> 0.13043478 | M450: 0 | N450: =M450/(O450+M450+K450+I450+G450+E450+Q450+Y450) -> 0 | O450: 44 | P450: =O450/(O450+M450+K450+I450+G450+E450+Q450+Y450) -> 0.63768116 | Q450: 2 | R450: =Q450/(O450+M450+K450+I450+G450+E450+Q450+Y450) -> 0.028985507 | S450: 69 | T450: 0 | U450: 69 | V450: 0 | W450: 69 | X450: 0 | Y450: 0 | Z450: 69 | AA450: 0 | AB450: 0 | AC450: 9 | AD450: 0 | AE450: 0 | AF450: 0 | AG450: 0 | AH450: 0

Sheet Март
A1: Район | B1: УИК | C1: Число избирателей в списке | D1: Явка (март) | E1: Явка (декабрь) | F1: Жириновский Владимир Вольфович | H1: Зюганов Геннадий Андреевич | J1: Миронов Сергей Михайлович | L1: Прохоров Михаил Дмитриевич | N1: Путин Владимир Владимирович | P1: Единая Россия (декабрь) | Q1: Число полученных бюллетеней | R1: Число бюллетеней, выданных в помещении | S1: Число бюллетеней, выданных вне помещения | T1: Число погашенных бюллетеней | U1: Число бюллетеней в переносных ящиках | V1: Число бюллетеней в стац. ящиках | W1: Число недействит. бюллетеней | X1: Число действи. бюллетеней | Y1: Число полученных открепит. | Z1: Число выданных открепит. | AA1: Число голосов по открепит. | AB1: Число неиспольз. открепит. | AC1: Число открепит., выданных в ТИК
A2: Итого: | C2: =SUBTOTAL(9,C4:C453) -> 913050 | D2: =(W2 +X2) / (C2 + AA2 - Z2) -> 0.67477094 | F2: =SUBTOTAL(9,F4:F453) -> 21783 | G2: =F2/(W2+X2) -> 0.03536718 | H2: =SUBTOTAL(9,H4:H453) -> 74707 | I2: =H2/(W2+X2) -> 0.12129532 | J2: =SUBTOTAL(9,J4:J453) -> 18653 | K2: =J2/(W2+X2) -> 0.030285269 | L2: =SUBTOTAL(9,L4:L453) -> 36706 | M2: =L2/(W2+X2) -> 0.05959637 | N2: =SUBTOTAL(9,N4:N453) -> 457538 | O2: =N2/(W2+X2) -> 0.74286503 | Q2: =SUBTOTAL(9,Q4:Q453) -> 836130 | R2: =SUBTOTAL(9,R4:R453) -> 592003 | S2: =SUBTOTAL(9,S4:S453) -> 24431 | T2: =SUBTOTAL(9,T4:T453) -> 219696 | U2: =SUBTOTAL(9,U4:U453) -> 24430 | V2: =SUBTOTAL(9,V4:V453) -> 591480 | W2: =SUBTOTAL(9,W4:W453) -> 6523 | X2: =SUBTOTAL(9,X4:X453) -> 609387 | ... AC2: =SUBTOTAL(9,AC4:AC453) -> 185
A3: 1 | B3: 2 | C3: 3 | D3: 4 | E3: 5 | F3: 6 | G3: 7 | H3: 8 | I3: 9 | J3: 10 | K3: 11 | L3: 12 | M3: 13 | N3: 14 | O3: 15 | P3: 16 | Q3: 17 | R3: 18 | S3: 19 | T3: 20 | U3: 21 | V3: 22 | W3: 23 | X3: 24 | Y3: 25 | Z3: 26 | AA3: 27 | AB3: 28 | AC3: 29
A4: Авиастроительный | B4: 1 | C4: 2874 | D4: =(W4 +X4) / (C4 + AA4 - Z4) -> 0.7109867 | E4: =VLOOKUP(B4,Table1,3,) -> 0.60938603 | F4: 36 | G4: =F4/(W4+X4) -> 0.017716535 | H4: 245 | I4: =H4/(W4+X4) -> 0.12057087 | J4: 16 | K4: =J4/(W4+X4) -> 0.0078740157 | L4: 41 | M4: =L4/(W4+X4) -> 0.020177165 | N4: 1687 | O4: =N4/(W4+X4) -> 0.83021654 | P4: =VLOOKUP(B4,Table3,15,) -> 0.62420382 | Q4: 2650 | R4: 1925 | S4: 107 | T4: 618 | U4: 107 | V4: 1925 | W4: 7 | X4: 2025 | Y4: 40 | Z4: 36 | AA4: 20 | AB4: 4 | AC4: 0
A5: Авиастроительный | B5: 2 | C5: 2696 | D5: =(W5 +X5) / (C5 + AA5 - Z5) -> 0.74340884 | E5: =VLOOKUP(B5,Table1,3,) -> 0.59527439 | F5: 49 | G5: =F5/(W5+X5) -> 0.024475524 | H5: 231 | I5: =H5/(W5+X5) -> 0.11538462 | J5: 14 | K5: =J5/(W5+X5) -> 0.006993007 | L5: 86 | M5: =L5/(W5+X5) -> 0.042957043 | N5: 1622 | O5: =N5/(W5+X5) -> 0.81018981 | P5: =VLOOKUP(B5,Table3,15,) -> 0.60307298 | Q5: 2450 | R5: 1885 | S5: 117 | T5: 448 | U5: 117 | V5: 1885 | W5: 0 | X5: 2002 | Y5: 55 | Z5: 43 | AA5: 40 | AB5: 12 | AC5: 0
A6: Авиастроительный | B6: 3 | C6: 2400 | D6: =(W6 +X6) / (C6 + AA6 - Z6) -> 0.78382907 | E6: =VLOOKUP(B6,Table1,3,) -> 0.72638436 | F6: 51 | G6: =F6/(W6+X6) -> 0.027258151 | H6: 196 | I6: =H6/(W6+X6) -> 0.10475681 | J6: 62 | K6: =J6/(W6+X6) -> 0.03313736 | L6: 79 | M6: =L6/(W6+X6) -> 0.04222341 | N6: 1477 | O6: =N6/(W6+X6) -> 0.78941742 | P6: =VLOOKUP(B6,Table3,15,) -> 0.54035874 | Q6: 2300 | R6: 1681 | S6: 191 | T6: 428 | U6: 191 | V6: 1680 | W6: 6 | X6: 1865 | Y6: 60 | Z6: 56 | AA6: 43 | AB6: 4 | AC6: 0
A7: Авиастроительный | B7: 4 | C7: 2172 | D7: =(W7 +X7) / (C7 + AA7 - Z7) -> 0.82231599 | E7: =VLOOKUP(B7,Table1,3,) -> 0.70203695 | F7: 23 | G7: =F7/(W7+X7) -> 0.013112885 | H7: 123 | I7: =H7/(W7+X7) -> 0.070125428 | J7: 17 | K7: =J7/(W7+X7) -> 0.0096921323 | L7: 59 | M7: =L7/(W7+X7) -> 0.0336374 | N7: 1506 | O7: =N7/(W7+X7) -> 0.85860889 | P7: =VLOOKUP(B7,Table3,15,) -> 0.59244265 | Q7: 2050 | R7: 1633 | S7: 121 | T7: 296 | U7: 121 | V7: 1633 | W7: 26 | X7: 1728 | Y7: 75 | Z7: 73 | AA7: 34 | AB7: 2 | AC7: 2
A8: Авиастроительный | B8: 5 | C8: 2543 | D8: =(W8 +X8) / (C8 + AA8 - Z8) -> 0.7798419 | E8: =VLOOKUP(B8,Table1,3,) -> 0.68573699 | F8: 21 | G8: =F8/(W8+X8) -> 0.01064369 | H8: 278 | I8: =H8/(W8+X8) -> 0.14090218 | J8: 18 | K8: =J8/(W8+X8) -> 0.0091231627 | L8: 37 | M8: =L8/(W8+X8) -> 0.018753168 | N8: 1617 | O8: =N8/(W8+X8) -> 0.81956412 | P8: =VLOOKUP(B8,Table3,15,) -> 0.67555041 | Q8: 2400 | R8: 1884 | S8: 91 | T8: 425 | U8: 91 | V8: 1882 | W8: 2 | X8: 1971 | Y8: 55 | Z8: 48 | AA8: 35 | AB8: 7 | AC8: 0
A9: Авиастроительный | B9: 6 | C9: 2300 | D9: =(W9 +X9) / (C9 + AA9 - Z9) -> 0.80113389 | E9: =VLOOKUP(B9,Table1,3,) -> 0.61026533 | F9: 61 | G9: =F9/(W9+X9) -> 0.033206315 | H9: 146 | I9: =H9/(W9+X9) -> 0.079477409 | J9: 9 | K9: =J9/(W9+X9) -> 0.0048992923 | L9: 16 | M9: =L9/(W9+X9) -> 0.008709853 | N9: 1598 | O9: =N9/(W9+X9) -> 0.86989657 | P9: =VLOOKUP(B9,Table3,15,) -> 0.5445474 | Q9: 2150 | R9: 1712 | S9: 125 | T9: 313 | U9: 125 | V9: 1712 | W9: 7 | X9: 1830 | Y9: 50 | Z9: 48 | AA9: 41 | AB9: 2 | AC9: 0
A10: Авиастроительный | B10: 7 | C10: 2411 | D10: =(W10 +X10) / (C10 + AA10 - Z10) -> 0.67102488 | E10: =VLOOKUP(B10,Table1,3,) -> 0.61213389 | F10: 98 | G10: =F10/(W10+X10) -> 0.06159648 | H10: 107 | I10: =H10/(W10+X10) -> 0.0672533 | J10: 88 | K10: =J10/(W10+X10) -> 0.055311125 | L10: 28 | M10: =L10/(W10+X10) -> 0.017598994 | N10: 1256 | O10: =N10/(W10+X10) -> 0.7894406 | P10: =VLOOKUP(B10,Table3,15,) -> 0.62611073 | Q10: 2300 | R10: 1448 | S10: 143 | T10: 709 | U10: 143 | V10: 1448 | W10: 14 | X10: 1577 | Y10: 65 | Z10: 65 | AA10: 25 | AB10: 0 | AC10: 0
A11: Авиастроительный | B11: 8 | C11: 2689 | D11: =(W11 +X11) / (C11 + AA11 - Z11) -> 0.69198791 | E11: =VLOOKUP(B11,Table1,3,) -> 0.61784387 | F11: 57 | G11: =F11/(W11+X11) -> 0.03113053 | H11: 269 | I11: =H11/(W11+X11) -> 0.14691425 | J11: 52 | K11: =J11/(W11+X11) -> 0.028399782 | L11: 163 | M11: =L11/(W11+X11) -> 0.089022392 | N11: 1266 | O11: =N11/(W11+X11) -> 0.69142545 | P11: =VLOOKUP(B11,Table3,15,) -> 0.33935018 | Q11: 2550 | R11: 1744 | S11: 88 | T11: 718 | U11: 88 | V11: 1743 | W11: 24 | X11: 1807 | Y11: 75 | Z11: 72 | AA11: 29 | AB11: 3 | AC11: 0
A12: Авиастроительный | B12: 9 | C12: 2363 | D12: =(W12 +X12) / (C12 + AA12 - Z12) -> 0.74411639 | E12: =VLOOKUP(B12,Table1,3,) -> 0.55927943 | F12: 34 | G12: =F12/(W12+X12) -> 0.019551466 | H12: 208 | I12: =H12/(W12+X12) -> 0.11960897 | J12: 8 | K12: =J12/(W12+X12) -> 0.004600345 | L12: 77 | M12: =L12/(W12+X12) -> 0.044278321 | N12: 1402 | O12: =N12/(W12+X12) -> 0.80621047 | P12: =VLOOKUP(B12,Table3,15,) -> 0.59026217 | Q12: 2200 | R12: 1584 | S12: 155 | T12: 461 | U12: 155 | V12: 1584 | W12: 10 | X12: 1729 | Y12: 45 | Z12: 39 | AA12: 13 | AB12: 6 | AC12: 2
A13: Авиастроительный | B13: 10 | C13: 2671 | D13: =(W13 +X13) / (C13 + AA13 - Z13) -> 0.80396644 | E13: =VLOOKUP(B13,Table1,3,) -> 0.74695235 | F13: 30 | G13: =F13/(W13+X13) -> 0.014231499 | H13: 251 | I13: =H13/(W13+X13) -> 0.11907021 | J13: 5 | K13: =J13/(W13+X13) -> 0.0023719165 | L13: 7 | M13: =L13/(W13+X13) -> 0.0033206831 | N13: 1803 | O13: =N13/(W13+X13) -> 0.85531309 | P13: =VLOOKUP(B13,Table3,15,) -> 0.65331355 | Q13: 2550 | R13: 1987 | S13: 121 | T13: 442 | U13: 121 | V13: 1987 | W13: 12 | X13: 2096 | Y13: 80 | Z13: 73 | AA13: 24 | AB13: 7 | AC13: 0
A14: Авиастроительный | B14: 11 | C14: 2734 | D14: =(W14 +X14) / (C14 + AA14 - Z14) -> 0.63205499 | E14: =VLOOKUP(B14,Table1,3,) -> 0.61450382 | F14: 43 | G14: =F14/(W14+X14) -> 0.024613623 | H14: 322 | I14: =H14/(W14+X14) -> 0.18431597 | J14: 48 | K14: =J14/(W14+X14) -> 0.027475673 | L14: 121 | M14: =L14/(W14+X14) -> 0.069261591 | N14: 1195 | O14: =N14/(W14+X14) -> 0.68402977 | P14: =VLOOKUP(B14,Table3,15,) -> 0.60745342 | Q14: 2500 | R14: 1714 | S14: 39 | T14: 747 | U14: 39 | V14: 1708 | W14: 18 | X14: 1729 | Y14: 90 | Z14: 82 | AA14: 112 | AB14: 8 | AC14: 0
A15: Авиастроительный | B15: 12 | C15: 2909 | D15: =(W15 +X15) / (C15 + AA15 - Z15) -> 0.75 | E15: =VLOOKUP(B15,Table1,3,) -> 0.634278 | F15: 114 | G15: =F15/(W15+X15) -> 0.053072626 | H15: 206 | I15: =H15/(W15+X15) -> 0.095903166 | J15: 59 | K15: =J15/(W15+X15) -> 0.027467412 | L15: 152 | M15: =L15/(W15+X15) -> 0.070763501 | N15: 1615 | O15: =N15/(W15+X15) -> 0.7518622 | P15: =VLOOKUP(B15,Table3,15,) -> 0.64680851 | Q15: 2750 | R15: 1963 | S15: 185 | T15: 602 | U15: 185 | V15: 1963 | W15: 2 | X15: 2146 | Y15: 85 | Z15: 75 | AA15: 30 | AB15: 10 | AC15: 1
... A453: Советский | B453: 450 | C453: 91 | D453: =(W453 +X453) / (C453 + AA453 - Z453) -> 0.9009901 | E453: =VLOOKUP(B453,Table1,3,) -> 0.88461538 | F453: 1 | G453: =F453/(W453+X453) -> 0.010989011 | H453: 6 | I453: =H453/(W453+X453) -> 0.065934066 | J453: 0 | K453: =J453/(W453+X453) -> 0 | L453: 2 | M453: =L453/(W453+X453) -> 0.021978022 | N453: 82 | O453: =N453/(W453+X453) -> 0.9010989 | P453: =VLOOKUP(B453,Table3,15,) -> 0.63768116 | Q453: 91 | R453: 0 | S453: 91 | T453: 0 | U453: 91 | V453: 0 | W453: 0 | X453: 91 | Y453: 0 | Z453: 0 | AA453: 10 | AB453: 0 | AC453: 0

Sheet Гаусс против Чурова
A3: Путин | B3: Единая Россия | D3: Путин % | E3: Количество по полю Путин, % | G3: Единая Россия, % | H3: Количество участков
A4: =ROUND(100 *Март!O4,0) -> 83 | B4: =ROUND(100 *Март!P4,0) -> 62 | D4: 48 | E4: 2 | G4: 28 | H4: 1
A5: =ROUND(100 *Март!O5,0) -> 81 | B5: =ROUND(100 *Март!P5,0) -> 60 | D5: 50 | E5: 2 | G5: 29 | H5: 1
A6: =ROUND(100 *Март!O6,0) -> 79 | B6: =ROUND(100 *Март!P6,0) -> 54 | D6: 51 | E6: 5 | G6: 30 | H6: 2
A7: =ROUND(100 *Март!O7,0) -> 86 | B7: =ROUND(100 *Март!P7,0) -> 59 | D7: 52 | E7: 6 | G7: 31 | H7: 4
A8: =ROUND(100 *Март!O8,0) -> 82 | B8: =ROUND(100 *Март!P8,0) -> 68 | D8: 53 | E8: 6 | G8: 32 | H8: 7
A9: =ROUND(100 *Март!O9,0) -> 87 | B9: =ROUND(100 *Март!P9,0) -> 54 | D9: 54 | E9: 9 | G9: 33 | H9: 2
A10: =ROUND(100 *Март!O10,0) -> 79 | B10: =ROUND(100 *Март!P10,0) -> 63 | D10: 55 | E10: 10 | G10: 34 | H10: 8
A11: =ROUND(100 *Март!O11,0) -> 69 | B11: =ROUND(100 *Март!P11,0) -> 34 | D11: 56 | E11: 5 | G11: 35 | H11: 2
A12: =ROUND(100 *Март!O12,0) -> 81 | B12: =ROUND(100 *Март!P12,0) -> 59 | D12: 57 | E12: 5 | G12: 36 | H12: 4
A13: =ROUND(100 *Март!O13,0) -> 86 | B13: =ROUND(100 *Март!P13,0) -> 65 | D13: 58 | E13: 3 | G13: 37 | H13: 5
A14: =ROUND(100 *Март!O14,0) -> 68 | B14: =ROUND(100 *Март!P14,0) -> 61 | D14: 59 | E14: 2 | G14: 38 | H14: 1
A15: =ROUND(100 *Март!O15,0) -> 75 | B15: =ROUND(100 *Март!P15,0) -> 65 | D15: 60 | E15: 5 | G15: 39 | H15: 4
... A50: =ROUND(100 *Март!O50,0) -> 73 | B50: =ROUND(100 *Март!P50,0) -> 54 | D50: 98 | E50: 2 | G50: 76 | H50: 3
A51: =ROUND(100 *Март!O51,0) -> 76 | B51: =ROUND(100 *Март!P51,0) -> 64 | G51: 78 | H51: 1
A52: =ROUND(100 *Март!O52,0) -> 73 | B52: =ROUND(100 *Март!P52,0) -> 65 | G52: 79 | H52: 3
A53: =ROUND(100 *Март!O53,0) -> 69 | B53: =ROUND(100 *Март!P53,0) -> 37 | G53: 80 | H53: 2
A54: =ROUND(100 *Март!O54,0) -> 80 | B54: =ROUND(100 *Март!P54,0) -> 66 | G54: 81 | H54: 1
A55: =ROUND(100 *Март!O55,0) -> 79 | B55: =ROUND(100 *Март!P55,0) -> 66 | G55: 84 | H55: 1
A56: =ROUND(100 *Март!O56,0) -> 76 | B56: =ROUND(100 *Март!P56,0) -> 65 | G56: 85 | H56: 3
A57: =ROUND(100 *Март!O57,0) -> 74 | B57: =ROUND(100 *Март!P57,0) -> 62 | G57: 86 | H57: 3
A58: =ROUND(100 *Март!O58,0) -> 48 | B58: =ROUND(100 *Март!P58,0) -> 58 | G58: 87 | H58: 2
A59: =ROUND(100 *Март!O59,0) -> 72 | B59: =ROUND(100 *Март!P59,0) -> 66 | G59: 88 | H59: 1
A60: =ROUND(100 *Март!O60,0) -> 79 | B60: =ROUND(100 *Март!P60,0) -> 61 | G60: 89 | H60: 2
A61: =ROUND(100 *Март!O61,0) -> 71 | B61: =ROUND(100 *Март!P61,0) -> 85 | G61: 90 | H61: 6
A62: =ROUND(100 *Март!O62,0) -> 74 | B62: =ROUND(100 *Март!P62,0) -> 58 | G62: 92 | H62: 1
A63: =ROUND(100 *Март!O63,0) -> 76 | B63: =ROUND(100 *Март!P63,0) -> 62 | G63: #Н/Д | H63: 2
A64: =ROUND(100 *Март!O64,0) -> 56 | B64: =ROUND(100 *Март!P64,0) -> 65 | G64: Общий итог | H64: 448
A65: =ROUND(100 *Март!O65,0) -> 71 | B65: =ROUND(100 *Март!P65,0) -> 65
A66: =ROUND(100 *Март!O66,0) -> 79 | B66: =ROUND(100 *Март!P66,0) -> 78
A67: =ROUND(100 *Март!O67,0) -> 70 | B67: =ROUND(100 *Март!P67,0) -> 65
A68: =ROUND(100 *Март!O68,0) -> 71 | B68: =ROUND(100 *Март!P68,0) -> 48
A69: =ROUND(100 *Март!O69,0) -> 73 | B69: =ROUND(100 *Март!P69,0) -> 65
A70: =ROUND(100 *Март!O70,0) -> 79 | B70: =ROUND(100 *Март!P70,0) -> 64
A71: =ROUND(100 *Март!O71,0) -> 76 | B71: =ROUND(100 *Март!P71,0) -> 64
A72: =ROUND(100 *Март!O72,0) -> 73 | B72: =ROUND(100 *Март!P72,0) -> 65
A73: =ROUND(100 *Март!O73,0) -> 72 | B73: =ROUND(100 *Март!P73,0) -> 64
A74: =ROUND(100 *Март!O74,0) -> 58 | B74: =ROUND(100 *Март!P74,0) -> 65
A75: =ROUND(100 *Март!O75,0) -> 77 | B75: =ROUND(100 *Март!P75,0) -> 66
A76: =ROUND(100 *Март!O76,0) -> 78 | B76: =ROUND(100 *Март!P76,0) -> 63
...
