Workbook

Sheet Лист1
A1: №п/п | B1: Фамилия, имя | C1: Коллектив | D1: Квал | E1: Номер | F1: ГР | G1: плавание | H1: вело 1кр | I1: вело 2 кр | J1: вело 3 кр | K1: вело 4 кр | L1: вело 5 кр | M1: вело 6 кр | N1: вело 7 кр | O1: вело 8 кр | P1: вело 9 кр | Q1: вело 10 кр | R1: бег 1 кр | S1: бег 2 кр | T1: Отставание | U1: Место | V1: Прим
A2: 1 | B2: Евграфов Роман | C2: Казань, лично | D2: I | E2: 59 | F2: 1981 | G2: 0.0066782407 | H2: 0.0091782407 | I2: 0.011585648 | J2: 0.013993056 | K2: 0.016365741 | L2: 0.018831019 | M2: 0.021215278 | N2: 0.023587963 | O2: 0.025949074 | P2: 0.028321759 | Q2: 0.030821759 | R2: 0.035925926 | S2: 0.040659722 | T2: +00:00 | U2: 1
A3: 2 | B3: Новиков Сергей | C3: Казань, лично | D3: I | E3: 62 | F3: 1970 | G3: 0.0074305556 | H3: 0.0099189815 | I3: 0.012361111 | J3: 0.014756944 | K3: 0.017164352 | L3: 0.019537037 | M3: 0.021898148 | N3: 0.02431713 | O3: 0.026701389 | P3: 0.029108796 | Q3: 0.031597222 | R3: 0.037789352 | S3: 0.043645833 | T3: +04:18 | U3: 2
A4: 3 | B4: Исмагилов Ильнар | C4: Казань, лично | E4: 93 | F4: 1983 | G4: 0.0087384259 | H4: 0.011284722 | I4: 0.013842593 | J4: 0.016423611 | K4: 0.018969907 | L4: 0.02150463 | M4: 0.023981481 | N4: 0.026550926 | O4: 0.028946759 | P4: 0.031331019 | Q4: 0.033784722 | R4: 0.0396875 | S4: 0.045138889 | T4: +06:27 | U4: 3
A5: 4 | B5: Круглов Сергей | C5: Казань, лично | D5: III | E5: 99 | F5: 1983 | G5: 0.0091435185 | H5: 0.011793981 | I5: 0.014363426 | J5: 0.016979167 | K5: 0.019513889 | L5: 0.022048611 | M5: 0.024548611 | N5: 0.027071759 | O5: 0.029618056 | P5: 0.0321875 | Q5: 0.034733796 | R5: 0.04099537 | S5: 0.046979167 | T5: +09:06 | U5: 4
A6: 5 | B6: Соколов Вячеслав | C6: Нижнекамский р-н, ли | E6: 113 | F6: 1982 | G6: 0.0097800926 | H6: 0.012465278 | I6: 0.015185185 | J6: 0.017905093 | K6: 0.020636574 | L6: 0.023391204 | M6: 0.026030093 | N6: 0.028761574 | O6: 0.031493056 | P6: 0.034166667 | Q6: 0.036944444 | R6: 0.042164352 | S6: 0.047384259 | T6: +09:41 | U6: 5
A7: 6 | B7: Белозерцева Марина | C7: Киров, лично | E7: 82 | F7: 1990 | G7: 0.011018519 | H7: 0.013587963 | I7: 0.016134259 | J7: 0.018703704 | K7: 0.02119213 | L7: 0.023703704 | M7: 0.02625 | N7: 0.028784722 | O7: 0.031319444 | P7: 0.033773148 | Q7: 0.036215278 | R7: 0.042025463 | S7: 0.047708333 | T7: +10:09 | U7: 6
A8: 7 | B8: Гридин Вечеслав | C8: Казань, лично | D8: III | E8: 88 | F8: 1979 | G8: 0.0085416667 | H8: 0.011412037 | I8: 0.014155093 | J8: 0.016840278 | K8: 0.019525463 | L8: 0.022048611 | M8: 0.024791667 | N8: 0.027546296 | O8: 0.030289352 | P8: 0.032986111 | Q8: 0.035729167 | R8: 0.042291667 | S8: 0.04806713 | T8: +10:40 | U8: 7
A9: 8 | B9: Андреев Артем | C9: ДЮЦ'Роза ветров' | E9: 7 | F9: 1999 | G9: 0.008587963 | H9: 0.011539352 | I9: 0.01443287 | J9: 0.017349537 | K9: 0.020243056 | L9: 0.023159722 | M9: 0.026087963 | N9: 0.029050926 | O9: 0.031990741 | P9: 0.03494213 | Q9: 0.037893519 | R9: 0.04318287 | S9: 0.048344907 | T9: +11:04 | U9: 8
A10: 9 | B10: Леушин Василий | C10: Х-Киров | E10: 102 | F10: 1982 | G10: 0.012546296 | H10: 0.015219907 | I10: 0.017858796 | J10: 0.020474537 | K10: 0.023113426 | L10: 0.025717593 | M10: 0.028310185 | N10: 0.030891204 | O10: 0.033483796 | P10: 0.036168981 | Q10: 0.038784722 | R10: 0.044282407 | S10: 0.048912037 | T10: +11:53 | U10: 9
A11: 10 | B11: Федоров Сергей | C11: Йошкар-Ола, лично | E11: 117 | F11: 1978 | G11: 0.011446759 | H11: 0.013900463 | I11: 0.016469907 | J11: 0.018993056 | K11: 0.021493056 | L11: 0.023958333 | M11: 0.026481481 | N11: 0.028946759 | O11: 0.031435185 | P11: 0.033946759 | Q11: 0.036574074 | R11: 0.04306713 | S11: 0.049108796 | T11: +12:10 | U11: 10
A12: 11 | B12: Латыпов Эльдар | C12: Нижнекамский р-н, ли | E12: 101 | F12: 1986 | G12: 0.011238426 | H12: 0.014074074 | I12: 0.016863426 | J12: 0.019618056 | K12: 0.022314815 | L12: 0.025046296 | M12: 0.027766204 | N12: 0.030486111 | O12: 0.033148148 | P12: 0.035810185 | Q12: 0.038530093 | R12: 0.044224537 | S12: 0.049768519 | T12: +13:07 | U12: 11
A13: 12 | B13: Носов Михаил | C13: Россия, лично | E13: 108 | F13: 1980 | G13: 0.010891204 | H13: 0.013333333 | I13: 0.016666667 | J13: 0.019178241 | K13: 0.021666667 | L13: 0.024143519 | M13: 0.026539352 | N13: 0.028946759 | O13: 0.033761574 | P13: 0.035023148 | Q13: 0.036215278 | R13: 0.043622685 | S13: 0.049976852 | T13: +13:25 | U13: 12
A14: 13 | B14: Марьин Александр | C14: Зеленодольский р-н, | E14: 61 | F14: 1986 | G14: 0.01224537 | H14: 0.015347222 | I14: 0.018148148 | J14: 0.020972222 | K14: 0.023796296 | L14: 0.0265625 | M14: 0.029247685 | N14: 0.032037037 | O14: 0.034780093 | P14: 0.037488426 | Q14: 0.040185185 | R14: 0.045405093 | S14: 0.050520833 | T14: +14:12 | U14: 13
A15: 14 | B15: Сидоров Алексей | C15: КДЮСШ Мотор | D15: I | E15: 65 | F15: 1985 | G15: 0.015011574 | H15: 0.017662037 | I15: 0.020300926 | J15: 0.022928241 | K15: 0.025590278 | L15: 0.028229167 | M15: 0.030787037 | N15: 0.033472222 | O15: 0.036122685 | P15: 0.038773148 | Q15: 0.041423611 | R15: 0.046296296 | S15: 0.051053241 | T15: +14:58 | U15: 14
A16: 15 | B16: Михайлов Игорь | C16: ДЮЦ'Роза ветров' | E16: 103 | F16: 1988 | G16: 0.012326389 | H16: 0.015081019 | I16: 0.017881944 | J16: 0.020648148 | K16: 0.023344907 | L16: 0.026041667 | M16: 0.028854167 | N16: 0.031666667 | O16: 0.034525463 | P16: 0.037453704 | Q16: 0.040393519 | R16: 0.046111111 | S16: 0.052025463 | T16: +16:22 | U16: 15
A17: 16 | B17: Осипов Денис | C17: Чебоксары, лично | E17: 63 | F17: 1985 | G17: 0.011805556 | H17: 0.014398148 | I17: 0.017071759 | J17: 0.019861111 | K17: 0.022592593 | L17: 0.025231481 | M17: 0.027928241 | N17: 0.030613426 | O17: 0.033414352 | P17: 0.03625 | Q17: 0.039085648 | R17: 0.045902778 | S17: 0.052708333 | T17: +17:21 | U17: 16
A18: 17 | B18: Болотов Алексей | C18: Тукаевский р-н, личн | E18: 83 | F18: 1982 | G18: 0.011400463 | H18: 0.013854167 | I18: 0.016469907 | J18: 0.019189815 | K18: 0.021678241 | L18: 0.026354167 | M18: 0.03056713 | N18: 0.033194444 | O18: 0.035787037 | P18: 0.038414352 | Q18: 0.041111111 | R18: 0.047349537 | S18: 0.053321759 | T18: +18:14 | U18: 17
A19: 18 | B19: Сибгатуллин Ленар | C19: Казань, лично | E19: 112 | F19: 1977 | G19: 0.012928241 | H19: 0.015625 | I19: 0.018402778 | J19: 0.021111111 | K19: 0.023726852 | L19: 0.026342593 | M19: 0.029050926 | N19: 0.031863426 | O19: 0.034583333 | P19: 0.037395833 | Q19: 0.04025463 | R19: 0.04755787 | S19: 0.05443287 | T19: +19:50 | U19: 18
A20: 19 | B20: Якупов Марат | C20: Казань, лично | D20: III | E20: 122 | F20: 1981 | G20: 0.012847222 | H20: 0.015474537 | I20: 0.018159722 | J20: 0.020891204 | K20: 0.023668981 | L20: 0.026284722 | M20: 0.028969907 | N20: 0.031643519 | O20: 0.03431713 | P20: 0.036956019 | Q20: 0.039710648 | R20: 0.046979167 | S20: 0.054479167 | T20: +19:54 | U20: 19
A21: 20 | B21: Ерилеев Николай | C21: Казань, лично | D21: III | E21: 89 | F21: 1977 | G21: 0.010428241 | H21: 0.013599537 | I21: 0.016712963 | J21: 0.019791667 | K21: 0.022939815 | L21: 0.026087963 | M21: 0.029201389 | N21: 0.032337963 | O21: 0.035462963 | P21: 0.038541667 | Q21: 0.041724537 | R21: 0.048252315 | S21: 0.05474537 | T21: +20:17 | U21: 20
A22: 21 | B22: Исупов Алексей | C22: Казань, лично | D22: III | E22: 73 | F22: 1957 | G22: 0.01369213 | H22: 0.016597222 | I22: 0.0196875 | J22: 0.022685185 | K22: 0.025648148 | L22: 0.028530093 | M22: 0.031435185 | N22: 0.034282407 | O22: 0.037152778 | P22: 0.040104167 | Q22: 0.042997685 | R22: 0.049224537 | S22: 0.055 | T22: +20:39 | U22: 21
A23: 22 | B23: Андреев Михаил | C23: ДВВС | D23: I | E23: 69 | F23: 1965 | G23: 0.012627315 | H23: 0.015532407 | I23: 0.018425926 | J23: 0.021296296 | K23: 0.024224537 | L23: 0.027083333 | M23: 0.029965278 | N23: 0.032847222 | O23: 0.035636574 | P23: 0.038391204 | Q23: 0.041180556 | R23: 0.048298611 | S23: 0.055046296 | T23: +20:43 | U23: 22
A24: 23 | B24: Быков Алексей | C24: Казань, лично | E24: 84 | F24: 1983 | G24: 0.012673611 | H24: 0.015497685 | I24: 0.018391204 | J24: 0.021215278 | K24: 0.023981481 | L24: 0.026898148 | M24: 0.029791667 | N24: 0.032685185 | O24: 0.035625 | P24: 0.038449074 | Q24: 0.041319444 | R24: 0.048553241 | S24: 0.055081019 | T24: +20:46 | U24: 23
A25: 24 | B25: Ванеев Даниил | C25: Казань, лично | E25: 57 | F25: 1982 | G25: 0.01630787 | H25: 0.018773148 | I25: 0.021203704 | J25: 0.023715278 | K25: 0.0265625 | L25: 0.029050926 | M25: 0.031736111 | N25: 0.034525463 | O25: 0.037291667 | P25: 0.039988426 | Q25: 0.042743056 | R25: 0.049236111 | S25: 0.055347222 | T25: +21:09 | U25: 24
A26: 25 | B26: Саляхов Рамиль | C26: Казань, лично | E26: 111 | F26: 1981 | G26: 0.0134375 | H26: 0.016111111 | I26: 0.018784722 | J26: 0.021377315 | K26: 0.023969907 | L26: 0.026643519 | M26: 0.029282407 | N26: 0.03193287 | O26: 0.034594907 | P26: 0.037199074 | Q26: 0.039861111 | R26: 0.048229167 | S26: 0.055532407 | T26: +21:25 | U26: 25
A27: 26 | B27: Петров Лев | C27: Козловский р-н, личн | E27: 76 | F27: 1958 | G27: 0.013668981 | H27: 0.016400463 | I27: 0.019131944 | J27: 0.021875 | K27: 0.02462963 | L27: 0.027384259 | M27: 0.030127315 | N27: 0.0328125 | O27: 0.035601852 | P27: 0.038310185 | Q27: 0.041134259 | R27: 0.048877315 | S27: 0.056006944 | T27: +22:06 | U27: 26
A28: 27 | B28: Хайруллин Рустем | C28: Казань, лично | E28: 120 | F28: 1986 | G28: 0.015844907 | H28: 0.018761574 | I28: 0.021516204 | J28: 0.024224537 | K28: 0.027094907 | L28: 0.03005787 | M28: 0.0328125 | N28: 0.035601852 | O28: 0.038333333 | P28: 0.041168981 | Q28: 0.044155093 | R28: 0.050231481 | S28: 0.056018519 | T28: +22:07 | U28: 27
A29: 28 | B29: Хуснуллин Ринат | C29: Казань, лично | E29: 121 | F29: 1991 | G29: 0.01625 | H29: 0.0190625 | I29: 0.021967593 | J29: 0.024803241 | K29: 0.027546296 | L29: 0.030300926 | M29: 0.032974537 | N29: 0.035729167 | O29: 0.038414352 | P29: 0.041122685 | Q29: 0.043854167 | R29: 0.050208333 | S29: 0.056701389 | T29: +23:06 | U29: 28
A30: 29 | B30: Пашонин Андрей | C30: Казань, лично | E30: 109 | F30: 1984 | G30: 0.01255787 | H30: 0.015590278 | I30: 0.018599537 | J30: 0.021458333 | K30: 0.024502315 | L30: 0.027430556 | M30: 0.030416667 | N30: 0.0334375 | O30: 0.036284722 | P30: 0.039212963 | Q30: 0.042233796 | R30: 0.050196759 | S30: 0.057974537 | T30: +24:56 | U30: 29
A31: 30 | B31: Загидуллин Булат | C31: Казань, лично | E31: 90 | F31: 1988 | G31: 0.013425926 | H31: 0.016597222 | I31: 0.019849537 | J31: 0.022974537 | K31: 0.026261574 | L31: 0.029398148 | M31: 0.032743056 | N31: 0.036018519 | O31: 0.039328704 | P31: 0.042511574 | Q31: 0.045821759 | R31: 0.052025463 | S31: 0.058263889 | T31: +25:21 | U31: 30
A32: 31 | B32: Валиев Марат | C32: СК Циклон | E32: 85 | F32: 1985 | G32: 0.01556713 | H32: 0.018668981 | I32: 0.021689815 | J32: 0.024733796 | K32: 0.027789352 | L32: 0.030868056 | M32: 0.03400463 | N32: 0.037037037 | O32: 0.040150463 | P32: 0.043275463 | Q32: 0.046296296 | R32: 0.052881944 | S32: 0.058530093 | T32: +25:44 | U32: 31
A33: 32 | B33: Таузари Нариман | C33: Казань, лично | E33: 115 | F33: 1974 | G33: 0.014166667 | H33: 0.017361111 | I33: 0.020486111 | J33: 0.023553241 | K33: 0.026574074 | L33: 0.029594907 | M33: 0.032569444 | N33: 0.03556713 | O33: 0.038599537 | P33: 0.04162037 | Q33: 0.044641204 | R33: 0.05181713 | S33: 0.058576389 | T33: +25:48 | U33: 32
A34: 33 | B34: Исупов Павел | C34: Казань, лично | D34: III | E34: 94 | F34: 1983 | G34: 0.014548611 | H34: 0.017650463 | I34: 0.020717593 | J34: 0.023738426 | K34: 0.02693287 | L34: 0.029930556 | M34: 0.033009259 | N34: 0.036030093 | O34: 0.039027778 | P34: 0.042094907 | Q34: 0.045277778 | R34: 0.052152778 | S34: 0.05880787 | T34: +26:08 | U34: 33
A35: 34 | B35: Шуртыгин Дмитрий | C35: Чебоксары, лично | E35: 20 | G35: 0.01556713 | H35: 0.018726852 | I35: 0.021840278 | J35: 0.025011574 | K35: 0.028136574 | L35: 0.031215278 | M35: 0.034178241 | N35: 0.03724537 | O35: 0.040347222 | P35: 0.043564815 | Q35: 0.046793981 | R35: 0.053298611 | S35: 0.059872685 | T35: +27:40 | U35: 34
A36: 35 | B36: Пережогин Алексей | C36: Казань, лично | E36: 382 | G36: 0.015833333 | H36: 0.01900463 | I36: 0.02212963 | J36: 0.025231481 | K36: 0.028252315 | L36: 0.031388889 | M36: 0.03431713 | N36: 0.037175926 | O36: 0.040115741 | P36: 0.043032407 | Q36: 0.046134259 | R36: 0.053773148 | S36: 0.060902778 | T36: +29:09 | U36: 35
A37: 36 | B37: Багабиев Линар | C37: Казань, лично | E37: 2 | G37: 0.016493056 | H37: 0.01943287 | I37: 0.022407407 | J37: 0.025416667 | K37: 0.028483796 | L37: 0.03162037 | M37: 0.0346875 | N37: 0.037986111 | O37: 0.041215278 | P37: 0.044340278 | Q37: 0.047280093 | R37: 0.054444444 | S37: 0.061087963 | T37: +29:25 | U37: 36
A38: 37 | B38: Гришин Тарас | C38: Казань, лично | D38: III | E38: 78 | F38: 1970 | G38: 0.011875 | H38: 0.014826389 | I38: 0.0178125 | J38: 0.020717593 | K38: 0.025439815 | L38: 0.03056713 | M38: 0.03349537 | N38: 0.036435185 | O38: 0.039490741 | P38: 0.042523148 | Q38: 0.045532407 | R38: 0.05337963 | S38: 0.061215278 | T38: +29:36 | U38: 37
A39: 38 | B39: Петров Дмитрий | C39: ЦДЮТиЭ Сов. р-на | D39: I | E39: 64 | F39: 1994 | G39: 0.016076389 | H39: 0.019479167 | I39: 0.023090278 | J39: 0.026585648 | K39: 0.030081019 | L39: 0.033553241 | M39: 0.036990741 | N39: 0.040451389 | O39: 0.043784722 | P39: 0.047118056 | Q39: 0.050451389 | R39: 0.056122685 | S39: 0.061770833 | T39: +30:24 | U39: 38
A40: 39 | B40: Алдров Николай | C40: ДЮЦ'Роза ветров' | E40: 79 | F40: 1989 | G40: 0.012060185 | H40: 0.014965278 | I40: 0.017986111 | J40: 0.021122685 | K40: 0.024328704 | L40: 0.027662037 | M40: 0.031030093 | N40: 0.034513889 | O40: 0.038020833 | P40: 0.041770833 | Q40: 0.04587963 | R40: 0.05349537 | S40: 0.061909722 | T40: +30:36 | U40: 39
A41: 40 | B41: Коновалов Никита | C41: КДЮСШ Мотор | D41: КМС | E41: 40 | F41: 1995 | G41: 0.016076389 | H41: 0.019502315 | I41: 0.0246875 | J41: 0.028472222 | K41: 0.031967593 | L41: 0.035416667 | M41: 0.038854167 | N41: 0.042233796 | O41: 0.045578704 | P41: 0.048969907 | Q41: 0.052291667 | R41: 0.057453704 | S41: 0.06255787 | T41: +31:32 | U41: 40
A42: 41 | B42: Перфильев Андрей | C42: Казань, лично | E42: 999 | F42: 1981 | G42: 0.0159375 | H42: 0.01912037 | I42: 0.022326389 | J42: 0.025486111 | K42: 0.028796296 | L42: 0.032037037 | M42: 0.035208333 | N42: 0.038449074 | O42: 0.041712963 | P42: 0.044988426 | Q42: 0.048125 | R42: 0.05537037 | S42: 0.062905093 | T42: +32:02 | U42: 41
A43: 42 | B43: Яманов Игорь | C43: ДДЮТиЭ Простор | E43: 123 | F43: 1994 | G43: 0.016840278 | H43: 0.019965278 | I43: 0.02318287 | J43: 0.026446759 | K43: 0.029733796 | L43: 0.033009259 | M43: 0.036319444 | N43: 0.039583333 | O43: 0.042916667 | P43: 0.046087963 | Q43: 0.04931713 | R43: 0.05625 | S43: 0.063101852 | T43: +32:19 | U43: 42
A44: 43 | B44: Бикмуллин Александр | C44: Казань, лично | E44: 3 | G44: 0.018078704 | H44: 0.020891204 | I44: 0.023738426 | J44: 0.026539352 | K44: 0.029351852 | L44: 0.032175926 | M44: 0.035115741 | N44: 0.037962963 | O44: 0.04087963 | P44: 0.04380787 | Q44: 0.046793981 | R44: 0.055034722 | S44: 0.063761574 | T44: +33:16 | U44: 43
A45: 44 | B45: Игнатьев Игорь | C45: Казань, лично | E45: 1 | F45: 1965 | G45: 0.016736111 | H45: 0.019664352 | I45: 0.022696759 | J45: 0.025636574 | K45: 0.028553241 | L45: 0.031423611 | M45: 0.034293981 | N45: 0.037256944 | O45: 0.040231481 | P45: 0.043298611 | Q45: 0.046423611 | R45: 0.055127315 | S45: 0.064108796 | T45: +33:46 | U45: 44
A46: 45 | B46: Паткин Денис | C46: Казань, лично | E46: 380 | G46: 0.015671296 | H46: 0.018958333 | I46: 0.022465278 | J46: 0.025960648 | K46: 0.029340278 | L46: 0.032858796 | M46: 0.036354167 | N46: 0.039768519 | O46: 0.043194444 | P46: 0.04662037 | Q46: 0.050069444 | R46: 0.057581019 | S46: 0.064282407 | T46: +34:01 | U46: 45
A47: 46 | B47: Федотов Игорь | C47: Уфа, лично | E47: 118 | F47: 1979 | G47: 0.012164352 | H47: 0.015381944 | I47: 0.018402778 | J47: 0.025578704 | K47: 0.034895833 | L47: 0.037893519 | M47: 0.041041667 | N47: 0.043981481 | O47: 0.047210648 | P47: 0.050324074 | Q47: 0.053171296 | R47: 0.061527778 | S47: 0.068993056 | T47: +40:48 | U47: 46
A48: 47 | B48: Карамов Артур | C48: Казань, лично | E48: 95 | F48: 1984 | G48: 0.019247685 | H48: 0.022638889 | I48: 0.025740741 | J48: 0.028831019 | K48: 0.031851852 | L48: 0.034965278 | M48: 0.038055556 | N48: 0.041111111 | O48: 0.044328704 | P48: 0.047604167 | Q48: 0.050706019 | R48: 0.060011574 | S48: 0.069236111 | T48: +41:09 | U48: 47
A49: 48 | B49: Карасик Роман | C49: Казань | E49: 96 | F49: 1978 | G49: 0.023483796 | H49: 0.027048611 | I49: 0.030613426 | J49: 0.03412037 | K49: 0.037777778 | L49: 0.041296296 | M49: 0.044675926 | N49: 0.048113426 | O49: 0.051516204 | P49: 0.055 | Q49: 0.058425926 | R49: 0.068206019 | S49: 0.079895833 | T49: +56:30 | U49: 48

Sheet по кругам
A1: №п/п | B1: Фамилия, имя | C1: Коллектив | D1: Квал | E1: Номер | F1: ГР | G1: плавание | H1: вело 1кр | I1: вело 2 кр | J1: вело 3 кр | K1: вело 4 кр | L1: вело 5 кр | M1: вело 6 кр | N1: вело 7 кр | O1: вело 8 кр | P1: вело 9 кр | Q1: вело 10 кр | R1: бег 1 кр | S1: бег 2 кр | T1: Отставание | U1: Место
A2: 1 | B2: Евграфов Роман | C2: Казань, лично | D2: I | E2: 59 | F2: 1981 | G2: 0.0066782407 | H2: =Лист1!H2-Лист1!G2 -> 0.0025 | I2: =Лист1!I2-Лист1!H2 -> 0.0024074074 | J2: =Лист1!J2-Лист1!I2 -> 0.0024074074 | K2: =Лист1!K2-Лист1!J2 -> 0.0023726852 | L2: =Лист1!L2-Лист1!K2 -> 0.0024652778 | M2: =Лист1!M2-Лист1!L2 -> 0.0023842593 | N2: =Лист1!N2-Лист1!M2 -> 0.0023726852 | O2: =Лист1!O2-Лист1!N2 -> 0.0023611111 | ... S2: =Лист1!S2-Лист1!R2 -> 0.0047337963 | T2: +00:00 | U2: 1
A3: 2 | B3: Новиков Сергей | C3: Казань, лично | D3: I | E3: 62 | F3: 1970 | G3: 0.0074305556 | H3: =Лист1!H3-Лист1!G3 -> 0.0024884259 | I3: =Лист1!I3-Лист1!H3 -> 0.0024421296 | J3: =Лист1!J3-Лист1!I3 -> 0.0023958333 | K3: =Лист1!K3-Лист1!J3 -> 0.0024074074 | L3: =Лист1!L3-Лист1!K3 -> 0.0023726852 | M3: =Лист1!M3-Лист1!L3 -> 0.0023611111 | N3: =Лист1!N3-Лист1!M3 -> 0.0024189815 | O3: =Лист1!O3-Лист1!N3 -> 0.0023842593 | ... S3: =Лист1!S3-Лист1!R3 -> 0.0058564815 | T3: +04:18 | U3: 2
A4: 3 | B4: Исмагилов Ильнар | C4: Казань, лично | E4: 93 | F4: 1983 | G4: 0.0087384259 | H4: =Лист1!H4-Лист1!G4 -> 0.0025462963 | I4: =Лист1!I4-Лист1!H4 -> 0.0025578704 | J4: =Лист1!J4-Лист1!I4 -> 0.0025810185 | K4: =Лист1!K4-Лист1!J4 -> 0.0025462963 | L4: =Лист1!L4-Лист1!K4 -> 0.0025347222 | M4: =Лист1!M4-Лист1!L4 -> 0.0024768519 | N4: =Лист1!N4-Лист1!M4 -> 0.0025694444 | O4: =Лист1!O4-Лист1!N4 -> 0.0023958333 | ... S4: =Лист1!S4-Лист1!R4 -> 0.0054513889 | T4: +06:27 | U4: 3
A5: 4 | B5: Круглов Сергей | C5: Казань, лично | D5: III | E5: 99 | F5: 1983 | G5: 0.0091435185 | H5: =Лист1!H5-Лист1!G5 -> 0.002650463 | I5: =Лист1!I5-Лист1!H5 -> 0.0025694444 | J5: =Лист1!J5-Лист1!I5 -> 0.0026157407 | K5: =Лист1!K5-Лист1!J5 -> 0.0025347222 | L5: =Лист1!L5-Лист1!K5 -> 0.0025347222 | M5: =Лист1!M5-Лист1!L5 -> 0.0025 | N5: =Лист1!N5-Лист1!M5 -> 0.0025231481 | O5: =Лист1!O5-Лист1!N5 -> 0.0025462963 | ... S5: =Лист1!S5-Лист1!R5 -> 0.0059837963 | T5: +09:06 | U5: 4
A6: 5 | B6: Соколов Вячеслав | C6: Нижнекамский р-н, ли | E6: 113 | F6: 1982 | G6: 0.0097800926 | H6: =Лист1!H6-Лист1!G6 -> 0.0026851852 | I6: =Лист1!I6-Лист1!H6 -> 0.0027199074 | J6: =Лист1!J6-Лист1!I6 -> 0.0027199074 | K6: =Лист1!K6-Лист1!J6 -> 0.0027314815 | L6: =Лист1!L6-Лист1!K6 -> 0.0027546296 | M6: =Лист1!M6-Лист1!L6 -> 0.0026388889 | N6: =Лист1!N6-Лист1!M6 -> 0.0027314815 | O6: =Лист1!O6-Лист1!N6 -> 0.0027314815 | ... S6: =Лист1!S6-Лист1!R6 -> 0.0052199074 | T6: +09:41 | U6: 5
A7: 6 | B7: Белозерцева Марина | C7: Киров, лично | E7: 82 | F7: 1990 | G7: 0.011018519 | H7: =Лист1!H7-Лист1!G7 -> 0.0025694444 | I7: =Лист1!I7-Лист1!H7 -> 0.0025462963 | J7: =Лист1!J7-Лист1!I7 -> 0.0025694444 | K7: =Лист1!K7-Лист1!J7 -> 0.0024884259 | L7: =Лист1!L7-Лист1!K7 -> 0.0025115741 | M7: =Лист1!M7-Лист1!L7 -> 0.0025462963 | N7: =Лист1!N7-Лист1!M7 -> 0.0025347222 | O7: =Лист1!O7-Лист1!N7 -> 0.0025347222 | ... S7: =Лист1!S7-Лист1!R7 -> 0.0056828704 | T7: +10:09 | U7: 6
A8: 7 | B8: Гридин Вечеслав | C8: Казань, лично | D8: III | E8: 88 | F8: 1979 | G8: 0.0085416667 | H8: =Лист1!H8-Лист1!G8 -> 0.0028703704 | I8: =Лист1!I8-Лист1!H8 -> 0.0027430556 | J8: =Лист1!J8-Лист1!I8 -> 0.0026851852 | K8: =Лист1!K8-Лист1!J8 -> 0.0026851852 | L8: =Лист1!L8-Лист1!K8 -> 0.0025231481 | M8: =Лист1!M8-Лист1!L8 -> 0.0027430556 | N8: =Лист1!N8-Лист1!M8 -> 0.0027546296 | O8: =Лист1!O8-Лист1!N8 -> 0.0027430556 | ... S8: =Лист1!S8-Лист1!R8 -> 0.005775463 | T8: +10:40 | U8: 7
A9: 8 | B9: Андреев Артем | C9: ДЮЦ'Роза ветров' | E9: 7 | F9: 1999 | G9: 0.008587963 | H9: =Лист1!H9-Лист1!G9 -> 0.0029513889 | I9: =Лист1!I9-Лист1!H9 -> 0.0028935185 | J9: =Лист1!J9-Лист1!I9 -> 0.0029166667 | K9: =Лист1!K9-Лист1!J9 -> 0.0028935185 | L9: =Лист1!L9-Лист1!K9 -> 0.0029166667 | M9: =Лист1!M9-Лист1!L9 -> 0.0029282407 | N9: =Лист1!N9-Лист1!M9 -> 0.002962963 | O9: =Лист1!O9-Лист1!N9 -> 0.0029398148 | ... S9: =Лист1!S9-Лист1!R9 -> 0.005162037 | T9: +11:04 | U9: 8
A10: 9 | B10: Леушин Василий | C10: Х-Киров | E10: 102 | F10: 1982 | G10: 0.012546296 | H10: =Лист1!H10-Лист1!G10 -> 0.0026736111 | I10: =Лист1!I10-Лист1!H10 -> 0.0026388889 | J10: =Лист1!J10-Лист1!I10 -> 0.0026157407 | K10: =Лист1!K10-Лист1!J10 -> 0.0026388889 | L10: =Лист1!L10-Лист1!K10 -> 0.0026041667 | M10: =Лист1!M10-Лист1!L10 -> 0.0025925926 | N10: =Лист1!N10-Лист1!M10 -> 0.0025810185 | O10: =Лист1!O10-Лист1!N10 -> 0.0025925926 | ... S10: =Лист1!S10-Лист1!R10 -> 0.0046296296 | T10: +11:53 | U10: 9
A11: 10 | B11: Федоров Сергей | C11: Йошкар-Ола, лично | E11: 117 | F11: 1978 | G11: 0.011446759 | H11: =Лист1!H11-Лист1!G11 -> 0.0024537037 | I11: =Лист1!I11-Лист1!H11 -> 0.0025694444 | J11: =Лист1!J11-Лист1!I11 -> 0.0025231481 | K11: =Лист1!K11-Лист1!J11 -> 0.0025 | L11: =Лист1!L11-Лист1!K11 -> 0.0024652778 | M11: =Лист1!M11-Лист1!L11 -> 0.0025231481 | N11: =Лист1!N11-Лист1!M11 -> 0.0024652778 | O11: =Лист1!O11-Лист1!N11 -> 0.0024884259 | ... S11: =Лист1!S11-Лист1!R11 -> 0.0060416667 | T11: +12:10 | U11: 10
A12: 11 | B12: Латыпов Эльдар | C12: Нижнекамский р-н, ли | E12: 101 | F12: 1986 | G12: 0.011238426 | H12: =Лист1!H12-Лист1!G12 -> 0.0028356481 | I12: =Лист1!I12-Лист1!H12 -> 0.0027893519 | J12: =Лист1!J12-Лист1!I12 -> 0.0027546296 | K12: =Лист1!K12-Лист1!J12 -> 0.0026967593 | L12: =Лист1!L12-Лист1!K12 -> 0.0027314815 | M12: =Лист1!M12-Лист1!L12 -> 0.0027199074 | N12: =Лист1!N12-Лист1!M12 -> 0.0027199074 | O12: =Лист1!O12-Лист1!N12 -> 0.002662037 | ... S12: =Лист1!S12-Лист1!R12 -> 0.0055439815 | T12: +13:07 | U12: 11
A13: 12 | B13: Носов Михаил | C13: Россия, лично | E13: 108 | F13: 1980 | G13: 0.010891204 | H13: =Лист1!H13-Лист1!G13 -> 0.0024421296 | I13: =Лист1!I13-Лист1!H13 -> 0.0033333333 | J13: =Лист1!J13-Лист1!I13 -> 0.0025115741 | K13: =Лист1!K13-Лист1!J13 -> 0.0024884259 | L13: =Лист1!L13-Лист1!K13 -> 0.0024768519 | M13: =Лист1!M13-Лист1!L13 -> 0.0023958333 | N13: =Лист1!N13-Лист1!M13 -> 0.0024074074 | O13: =Лист1!O13-Лист1!N13 -> 0.0048148148 | ... S13: =Лист1!S13-Лист1!R13 -> 0.0063541667 | T13: +13:25 | U13: 12
A14: 13 | B14: Марьин Александр | C14: Зеленодольский р-н, | E14: 61 | F14: 1986 | G14: 0.01224537 | H14: =Лист1!H14-Лист1!G14 -> 0.0031018519 | I14: =Лист1!I14-Лист1!H14 -> 0.0028009259 | J14: =Лист1!J14-Лист1!I14 -> 0.0028240741 | K14: =Лист1!K14-Лист1!J14 -> 0.0028240741 | L14: =Лист1!L14-Лист1!K14 -> 0.0027662037 | M14: =Лист1!M14-Лист1!L14 -> 0.0026851852 | N14: =Лист1!N14-Лист1!M14 -> 0.0027893519 | O14: =Лист1!O14-Лист1!N14 -> 0.0027430556 | ... S14: =Лист1!S14-Лист1!R14 -> 0.0051157407 | T14: +14:12 | U14: 13
A15: 14 | B15: Сидоров Алексей | C15: КДЮСШ Мотор | D15: I | E15: 65 | F15: 1985 | G15: 0.015011574 | H15: =Лист1!H15-Лист1!G15 -> 0.002650463 | I15: =Лист1!I15-Лист1!H15 -> 0.0026388889 | J15: =Лист1!J15-Лист1!I15 -> 0.0026273148 | K15: =Лист1!K15-Лист1!J15 -> 0.002662037 | L15: =Лист1!L15-Лист1!K15 -> 0.0026388889 | M15: =Лист1!M15-Лист1!L15 -> 0.0025578704 | N15: =Лист1!N15-Лист1!M15 -> 0.0026851852 | O15: =Лист1!O15-Лист1!N15 -> 0.002650463 | ... S15: =Лист1!S15-Лист1!R15 -> 0.0047569444 | T15: +14:58 | U15: 14
A16: 15 | B16: Михайлов Игорь | C16: ДЮЦ'Роза ветров' | E16: 103 | F16: 1988 | G16: 0.012326389 | H16: =Лист1!H16-Лист1!G16 -> 0.0027546296 | I16: =Лист1!I16-Лист1!H16 -> 0.0028009259 | J16: =Лист1!J16-Лист1!I16 -> 0.0027662037 | K16: =Лист1!K16-Лист1!J16 -> 0.0026967593 | L16: =Лист1!L16-Лист1!K16 -> 0.0026967593 | M16: =Лист1!M16-Лист1!L16 -> 0.0028125 | N16: =Лист1!N16-Лист1!M16 -> 0.0028125 | O16: =Лист1!O16-Лист1!N16 -> 0.0028587963 | ... S16: =Лист1!S16-Лист1!R16 -> 0.0059143519 | T16: +16:22 | U16: 15
A17: 16 | B17: Осипов Денис | C17: Чебоксары, лично | E17: 63 | F17: 1985 | G17: 0.011805556 | H17: =Лист1!H17-Лист1!G17 -> 0.0025925926 | I17: =Лист1!I17-Лист1!H17 -> 0.0026736111 | J17: =Лист1!J17-Лист1!I17 -> 0.0027893519 | K17: =Лист1!K17-Лист1!J17 -> 0.0027314815 | L17: =Лист1!L17-Лист1!K17 -> 0.0026388889 | M17: =Лист1!M17-Лист1!L17 -> 0.0026967593 | N17: =Лист1!N17-Лист1!M17 -> 0.0026851852 | O17: =Лист1!O17-Лист1!N17 -> 0.0028009259 | ... S17: =Лист1!S17-Лист1!R17 -> 0.0068055556 | T17: +17:21 | U17: 16
A18: 17 | B18: Болотов Алексей | C18: Тукаевский р-н, личн | E18: 83 | F18: 1982 | G18: 0.011400463 | H18: =Лист1!H18-Лист1!G18 -> 0.0024537037 | I18: =Лист1!I18-Лист1!H18 -> 0.0026157407 | J18: =Лист1!J18-Лист1!I18 -> 0.0027199074 | K18: =Лист1!K18-Лист1!J18 -> 0.0024884259 | L18: =Лист1!L18-Лист1!K18 -> 0.0046759259 | M18: =Лист1!M18-Лист1!L18 -> 0.004212963 | N18: =Лист1!N18-Лист1!M18 -> 0.0026273148 | O18: =Лист1!O18-Лист1!N18 -> 0.0025925926 | ... S18: =Лист1!S18-Лист1!R18 -> 0.0059722222 | T18: +18:14 | U18: 17
A19: 18 | B19: Сибгатуллин Ленар | C19: Казань, лично | E19: 112 | F19: 1977 | G19: 0.012928241 | H19: =Лист1!H19-Лист1!G19 -> 0.0026967593 | I19: =Лист1!I19-Лист1!H19 -> 0.0027777778 | J19: =Лист1!J19-Лист1!I19 -> 0.0027083333 | K19: =Лист1!K19-Лист1!J19 -> 0.0026157407 | L19: =Лист1!L19-Лист1!K19 -> 0.0026157407 | M19: =Лист1!M19-Лист1!L19 -> 0.0027083333 | N19: =Лист1!N19-Лист1!M19 -> 0.0028125 | O19: =Лист1!O19-Лист1!N19 -> 0.0027199074 | ... S19: =Лист1!S19-Лист1!R19 -> 0.006875 | T19: +19:50 | U19: 18
A20: 19 | B20: Якупов Марат | C20: Казань, лично | D20: III | E20: 122 | F20: 1981 | G20: 0.012847222 | H20: =Лист1!H20-Лист1!G20 -> 0.0026273148 | I20: =Лист1!I20-Лист1!H20 -> 0.0026851852 | J20: =Лист1!J20-Лист1!I20 -> 0.0027314815 | K20: =Лист1!K20-Лист1!J20 -> 0.0027777778 | L20: =Лист1!L20-Лист1!K20 -> 0.0026157407 | M20: =Лист1!M20-Лист1!L20 -> 0.0026851852 | N20: =Лист1!N20-Лист1!M20 -> 0.0026736111 | O20: =Лист1!O20-Лист1!N20 -> 0.0026736111 | ... S20: =Лист1!S20-Лист1!R20 -> 0.0075 | T20: +19:54 | U20: 19
A21: 20 | B21: Ерилеев Николай | C21: Казань, лично | D21: III | E21: 89 | F21: 1977 | G21: 0.010428241 | H21: =Лист1!H21-Лист1!G21 -> 0.0031712963 | I21: =Лист1!I21-Лист1!H21 -> 0.0031134259 | J21: =Лист1!J21-Лист1!I21 -> 0.0030787037 | K21: =Лист1!K21-Лист1!J21 -> 0.0031481481 | L21: =Лист1!L21-Лист1!K21 -> 0.0031481481 | M21: =Лист1!M21-Лист1!L21 -> 0.0031134259 | N21: =Лист1!N21-Лист1!M21 -> 0.0031365741 | O21: =Лист1!O21-Лист1!N21 -> 0.003125 | ... S21: =Лист1!S21-Лист1!R21 -> 0.0064930556 | T21: +20:17 | U21: 20
A22: 21 | B22: Исупов Алексей | C22: Казань, лично | D22: III | E22: 73 | F22: 1957 | G22: 0.01369213 | H22: =Лист1!H22-Лист1!G22 -> 0.0029050926 | I22: =Лист1!I22-Лист1!H22 -> 0.0030902778 | J22: =Лист1!J22-Лист1!I22 -> 0.0029976852 | K22: =Лист1!K22-Лист1!J22 -> 0.002962963 | L22: =Лист1!L22-Лист1!K22 -> 0.0028819444 | M22: =Лист1!M22-Лист1!L22 -> 0.0029050926 | N22: =Лист1!N22-Лист1!M22 -> 0.0028472222 | O22: =Лист1!O22-Лист1!N22 -> 0.0028703704 | ... S22: =Лист1!S22-Лист1!R22 -> 0.005775463 | T22: +20:39 | U22: 21
A23: 22 | B23: Андреев Михаил | C23: ДВВС | D23: I | E23: 69 | F23: 1965 | G23: 0.012627315 | H23: =Лист1!H23-Лист1!G23 -> 0.0029050926 | I23: =Лист1!I23-Лист1!H23 -> 0.0028935185 | J23: =Лист1!J23-Лист1!I23 -> 0.0028703704 | K23: =Лист1!K23-Лист1!J23 -> 0.0029282407 | L23: =Лист1!L23-Лист1!K23 -> 0.0028587963 | M23: =Лист1!M23-Лист1!L23 -> 0.0028819444 | N23: =Лист1!N23-Лист1!M23 -> 0.0028819444 | O23: =Лист1!O23-Лист1!N23 -> 0.0027893519 | ... S23: =Лист1!S23-Лист1!R23 -> 0.0067476852 | T23: +20:43 | U23: 22
A24: 23 | B24: Быков Алексей | C24: Казань, лично | E24: 84 | F24: 1983 | G24: 0.012673611 | H24: =Лист1!H24-Лист1!G24 -> 0.0028240741 | I24: =Лист1!I24-Лист1!H24 -> 0.0028935185 | J24: =Лист1!J24-Лист1!I24 -> 0.0028240741 | K24: =Лист1!K24-Лист1!J24 -> 0.0027662037 | L24: =Лист1!L24-Лист1!K24 -> 0.0029166667 | M24: =Лист1!M24-Лист1!L24 -> 0.0028935185 | N24: =Лист1!N24-Лист1!M24 -> 0.0028935185 | O24: =Лист1!O24-Лист1!N24 -> 0.0029398148 | ... S24: =Лист1!S24-Лист1!R24 -> 0.0065277778 | T24: +20:46 | U24: 23
A25: 24 | B25: Ванеев Даниил | C25: Казань, лично | E25: 57 | F25: 1982 | G25: 0.01630787 | H25: =Лист1!H25-Лист1!G25 -> 0.0024652778 | I25: =Лист1!I25-Лист1!H25 -> 0.0024305556 | J25: =Лист1!J25-Лист1!I25 -> 0.0025115741 | K25: =Лист1!K25-Лист1!J25 -> 0.0028472222 | L25: =Лист1!L25-Лист1!K25 -> 0.0024884259 | M25: =Лист1!M25-Лист1!L25 -> 0.0026851852 | N25: =Лист1!N25-Лист1!M25 -> 0.0027893519 | O25: =Лист1!O25-Лист1!N25 -> 0.0027662037 | ... S25: =Лист1!S25-Лист1!R25 -> 0.0061111111 | T25: +21:09 | U25: 24
A26: 25 | B26: Саляхов Рамиль | C26: Казань, лично | E26: 111 | F26: 1981 | G26: 0.0134375 | H26: =Лист1!H26-Лист1!G26 -> 0.0026736111 | I26: =Лист1!I26-Лист1!H26 -> 0.0026736111 | J26: =Лист1!J26-Лист1!I26 -> 0.0025925926 | K26: =Лист1!K26-Лист1!J26 -> 0.0025925926 | L26: =Лист1!L26-Лист1!K26 -> 0.0026736111 | M26: =Лист1!M26-Лист1!L26 -> 0.0026388889 | N26: =Лист1!N26-Лист1!M26 -> 0.002650463 | O26: =Лист1!O26-Лист1!N26 -> 0.002662037 | ... S26: =Лист1!S26-Лист1!R26 -> 0.0073032407 | T26: +21:25 | U26: 25
A27: 26 | B27: Петров Лев | C27: Козловский р-н, личн | E27: 76 | F27: 1958 | G27: 0.013668981 | H27: =Лист1!H27-Лист1!G27 -> 0.0027314815 | I27: =Лист1!I27-Лист1!H27 -> 0.0027314815 | J27: =Лист1!J27-Лист1!I27 -> 0.0027430556 | K27: =Лист1!K27-Лист1!J27 -> 0.0027546296 | L27: =Лист1!L27-Лист1!K27 -> 0.0027546296 | M27: =Лист1!M27-Лист1!L27 -> 0.0027430556 | N27: =Лист1!N27-Лист1!M27 -> 0.0026851852 | O27: =Лист1!O27-Лист1!N27 -> 0.0027893519 | ... S27: =Лист1!S27-Лист1!R27 -> 0.0071296296 | T27: +22:06 | U27: 26
A28: 27 | B28: Хайруллин Рустем | C28: Казань, лично | E28: 120 | F28: 1986 | G28: 0.015844907 | H28: =Лист1!H28-Лист1!G28 -> 0.0029166667 | I28: =Лист1!I28-Лист1!H28 -> 0.0027546296 | J28: =Лист1!J28-Лист1!I28 -> 0.0027083333 | K28: =Лист1!K28-Лист1!J28 -> 0.0028703704 | L28: =Лист1!L28-Лист1!K28 -> 0.002962963 | M28: =Лист1!M28-Лист1!L28 -> 0.0027546296 | N28: =Лист1!N28-Лист1!M28 -> 0.0027893519 | O28: =Лист1!O28-Лист1!N28 -> 0.0027314815 | ... S28: =Лист1!S28-Лист1!R28 -> 0.005787037 | T28: +22:07 | U28: 27
A29: 28 | B29: Хуснуллин Ринат | C29: Казань, лично | E29: 121 | F29: 1991 | G29: 0.01625 | H29: =Лист1!H29-Лист1!G29 -> 0.0028125 | I29: =Лист1!I29-Лист1!H29 -> 0.0029050926 | J29: =Лист1!J29-Лист1!I29 -> 0.0028356481 | K29: =Лист1!K29-Лист1!J29 -> 0.0027430556 | L29: =Лист1!L29-Лист1!K29 -> 0.0027546296 | M29: =Лист1!M29-Лист1!L29 -> 0.0026736111 | N29: =Лист1!N29-Лист1!M29 -> 0.0027546296 | O29: =Лист1!O29-Лист1!N29 -> 0.0026851852 | ... S29: =Лист1!S29-Лист1!R29 -> 0.0064930556 | T29: +23:06 | U29: 28
A30: 29 | B30: Пашонин Андрей | C30: Казань, лично | E30: 109 | F30: 1984 | G30: 0.01255787 | H30: =Лист1!H30-Лист1!G30 -> 0.0030324074 | I30: =Лист1!I30-Лист1!H30 -> 0.0030092593 | J30: =Лист1!J30-Лист1!I30 -> 0.0028587963 | K30: =Лист1!K30-Лист1!J30 -> 0.0030439815 | L30: =Лист1!L30-Лист1!K30 -> 0.0029282407 | M30: =Лист1!M30-Лист1!L30 -> 0.0029861111 | N30: =Лист1!N30-Лист1!M30 -> 0.0030208333 | O30: =Лист1!O30-Лист1!N30 -> 0.0028472222 | ... S30: =Лист1!S30-Лист1!R30 -> 0.0077777778 | T30: +24:56 | U30: 29
A31: 30 | B31: Загидуллин Булат | C31: Казань, лично | E31: 90 | F31: 1988 | G31: 0.013425926 | H31: =Лист1!H31-Лист1!G31 -> 0.0031712963 | I31: =Лист1!I31-Лист1!H31 -> 0.0032523148 | J31: =Лист1!J31-Лист1!I31 -> 0.003125 | K31: =Лист1!K31-Лист1!J31 -> 0.003287037 | L31: =Лист1!L31-Лист1!K31 -> 0.0031365741 | M31: =Лист1!M31-Лист1!L31 -> 0.0033449074 | N31: =Лист1!N31-Лист1!M31 -> 0.003275463 | O31: =Лист1!O31-Лист1!N31 -> 0.0033101852 | ... S31: =Лист1!S31-Лист1!R31 -> 0.0062384259 | T31: +25:21 | U31: 30
A32: 31 | B32: Валиев Марат | C32: СК Циклон | E32: 85 | F32: 1985 | G32: 0.01556713 | H32: =Лист1!H32-Лист1!G32 -> 0.0031018519 | I32: =Лист1!I32-Лист1!H32 -> 0.0030208333 | J32: =Лист1!J32-Лист1!I32 -> 0.0030439815 | K32: =Лист1!K32-Лист1!J32 -> 0.0030555556 | L32: =Лист1!L32-Лист1!K32 -> 0.0030787037 | M32: =Лист1!M32-Лист1!L32 -> 0.0031365741 | N32: =Лист1!N32-Лист1!M32 -> 0.0030324074 | O32: =Лист1!O32-Лист1!N32 -> 0.0031134259 | ... S32: =Лист1!S32-Лист1!R32 -> 0.0056481481 | T32: +25:44 | U32: 31
A33: 32 | B33: Таузари Нариман | C33: Казань, лично | E33: 115 | F33: 1974 | G33: 0.014166667 | H33: =Лист1!H33-Лист1!G33 -> 0.0031944444 | I33: =Лист1!I33-Лист1!H33 -> 0.003125 | J33: =Лист1!J33-Лист1!I33 -> 0.0030671296 | K33: =Лист1!K33-Лист1!J33 -> 0.0030208333 | L33: =Лист1!L33-Лист1!K33 -> 0.0030208333 | M33: =Лист1!M33-Лист1!L33 -> 0.002974537 | N33: =Лист1!N33-Лист1!M33 -> 0.0029976852 | O33: =Лист1!O33-Лист1!N33 -> 0.0030324074 | ... S33: =Лист1!S33-Лист1!R33 -> 0.0067592593 | T33: +25:48 | U33: 32
A34: 33 | B34: Исупов Павел | C34: Казань, лично | D34: III | E34: 94 | F34: 1983 | G34: 0.014548611 | H34: =Лист1!H34-Лист1!G34 -> 0.0031018519 | I34: =Лист1!I34-Лист1!H34 -> 0.0030671296 | J34: =Лист1!J34-Лист1!I34 -> 0.0030208333 | K34: =Лист1!K34-Лист1!J34 -> 0.0031944444 | L34: =Лист1!L34-Лист1!K34 -> 0.0029976852 | M34: =Лист1!M34-Лист1!L34 -> 0.0030787037 | N34: =Лист1!N34-Лист1!M34 -> 0.0030208333 | O34: =Лист1!O34-Лист1!N34 -> 0.0029976852 | ... S34: =Лист1!S34-Лист1!R34 -> 0.0066550926 | T34: +26:08 | U34: 33
A35: 34 | B35: Шуртыгин Дмитрий | C35: Чебоксары, лично | E35: 20 | G35: 0.01556713 | H35: =Лист1!H35-Лист1!G35 -> 0.0031597222 | I35: =Лист1!I35-Лист1!H35 -> 0.0031134259 | J35: =Лист1!J35-Лист1!I35 -> 0.0031712963 | K35: =Лист1!K35-Лист1!J35 -> 0.003125 | L35: =Лист1!L35-Лист1!K35 -> 0.0030787037 | M35: =Лист1!M35-Лист1!L35 -> 0.002962963 | N35: =Лист1!N35-Лист1!M35 -> 0.0030671296 | O35: =Лист1!O35-Лист1!N35 -> 0.0031018519 | ... S35: =Лист1!S35-Лист1!R35 -> 0.0065740741 | T35: +27:40 | U35: 34
A36: 35 | B36: Пережогин Алексей | C36: Казань, лично | E36: 382 | G36: 0.015833333 | H36: =Лист1!H36-Лист1!G36 -> 0.0031712963 | I36: =Лист1!I36-Лист1!H36 -> 0.003125 | J36: =Лист1!J36-Лист1!I36 -> 0.0031018519 | K36: =Лист1!K36-Лист1!J36 -> 0.0030208333 | L36: =Лист1!L36-Лист1!K36 -> 0.0031365741 | M36: =Лист1!M36-Лист1!L36 -> 0.0029282407 | N36: =Лист1!N36-Лист1!M36 -> 0.0028587963 | O36: =Лист1!O36-Лист1!N36 -> 0.0029398148 | ... S36: =Лист1!S36-Лист1!R36 -> 0.0071296296 | T36: +29:09 | U36: 35
A37: 36 | B37: Багабиев Линар | C37: Казань, лично | E37: 2 | G37: 0.016493056 | H37: =Лист1!H37-Лист1!G37 -> 0.0029398148 | I37: =Лист1!I37-Лист1!H37 -> 0.002974537 | J37: =Лист1!J37-Лист1!I37 -> 0.0030092593 | K37: =Лист1!K37-Лист1!J37 -> 0.0030671296 | L37: =Лист1!L37-Лист1!K37 -> 0.0031365741 | M37: =Лист1!M37-Лист1!L37 -> 0.0030671296 | N37: =Лист1!N37-Лист1!M37 -> 0.0032986111 | O37: =Лист1!O37-Лист1!N37 -> 0.0032291667 | ... S37: =Лист1!S37-Лист1!R37 -> 0.0066435185 | T37: +29:25 | U37: 36
A38: 37 | B38: Гришин Тарас | C38: Казань, лично | D38: III | E38: 78 | F38: 1970 | G38: 0.011875 | H38: =Лист1!H38-Лист1!G38 -> 0.0029513889 | I38: =Лист1!I38-Лист1!H38 -> 0.0029861111 | J38: =Лист1!J38-Лист1!I38 -> 0.0029050926 | K38: =Лист1!K38-Лист1!J38 -> 0.0047222222 | L38: =Лист1!L38-Лист1!K38 -> 0.0051273148 | M38: =Лист1!M38-Лист1!L38 -> 0.0029282407 | N38: =Лист1!N38-Лист1!M38 -> 0.0029398148 | O38: =Лист1!O38-Лист1!N38 -> 0.0030555556 | ... S38: =Лист1!S38-Лист1!R38 -> 0.0078356481 | T38: +29:36 | U38: 37
A39: 38 | B39: Петров Дмитрий | C39: ЦДЮТиЭ Сов. р-на | D39: I | E39: 64 | F39: 1994 | G39: 0.016076389 | H39: =Лист1!H39-Лист1!G39 -> 0.0034027778 | I39: =Лист1!I39-Лист1!H39 -> 0.0036111111 | J39: =Лист1!J39-Лист1!I39 -> 0.0034953704 | K39: =Лист1!K39-Лист1!J39 -> 0.0034953704 | L39: =Лист1!L39-Лист1!K39 -> 0.0034722222 | M39: =Лист1!M39-Лист1!L39 -> 0.0034375 | N39: =Лист1!N39-Лист1!M39 -> 0.0034606481 | O39: =Лист1!O39-Лист1!N39 -> 0.0033333333 | ... S39: =Лист1!S39-Лист1!R39 -> 0.0056481481 | T39: +30:24 | U39: 38
A40: 39 | B40: Алдров Николай | C40: ДЮЦ'Роза ветров' | E40: 79 | F40: 1989 | G40: 0.012060185 | H40: =Лист1!H40-Лист1!G40 -> 0.0029050926 | I40: =Лист1!I40-Лист1!H40 -> 0.0030208333 | J40: =Лист1!J40-Лист1!I40 -> 0.0031365741 | K40: =Лист1!K40-Лист1!J40 -> 0.0032060185 | L40: =Лист1!L40-Лист1!K40 -> 0.0033333333 | M40: =Лист1!M40-Лист1!L40 -> 0.0033680556 | N40: =Лист1!N40-Лист1!M40 -> 0.0034837963 | O40: =Лист1!O40-Лист1!N40 -> 0.0035069444 | ... S40: =Лист1!S40-Лист1!R40 -> 0.0084143519 | T40: +30:36 | U40: 39
A41: 40 | B41: Коновалов Никита | C41: КДЮСШ Мотор | D41: КМС | E41: 40 | F41: 1995 | G41: 0.016076389 | H41: =Лист1!H41-Лист1!G41 -> 0.0034259259 | I41: =Лист1!I41-Лист1!H41 -> 0.0051851852 | J41: =Лист1!J41-Лист1!I41 -> 0.0037847222 | K41: =Лист1!K41-Лист1!J41 -> 0.0034953704 | L41: =Лист1!L41-Лист1!K41 -> 0.0034490741 | M41: =Лист1!M41-Лист1!L41 -> 0.0034375 | N41: =Лист1!N41-Лист1!M41 -> 0.0033796296 | O41: =Лист1!O41-Лист1!N41 -> 0.0033449074 | ... S41: =Лист1!S41-Лист1!R41 -> 0.0051041667 | T41: +31:32 | U41: 40
A42: 41 | B42: Перфильев Андрей | C42: Казань, лично | E42: 999 | F42: 1981 | G42: 0.0159375 | H42: =Лист1!H42-Лист1!G42 -> 0.0031828704 | I42: =Лист1!I42-Лист1!H42 -> 0.0032060185 | J42: =Лист1!J42-Лист1!I42 -> 0.0031597222 | K42: =Лист1!K42-Лист1!J42 -> 0.0033101852 | L42: =Лист1!L42-Лист1!K42 -> 0.0032407407 | M42: =Лист1!M42-Лист1!L42 -> 0.0031712963 | N42: =Лист1!N42-Лист1!M42 -> 0.0032407407 | O42: =Лист1!O42-Лист1!N42 -> 0.0032638889 | ... S42: =Лист1!S42-Лист1!R42 -> 0.0075347222 | T42: +32:02 | U42: 41
A43: 42 | B43: Яманов Игорь | C43: ДДЮТиЭ Простор | E43: 123 | F43: 1994 | G43: 0.016840278 | H43: =Лист1!H43-Лист1!G43 -> 0.003125 | I43: =Лист1!I43-Лист1!H43 -> 0.0032175926 | J43: =Лист1!J43-Лист1!I43 -> 0.0032638889 | K43: =Лист1!K43-Лист1!J43 -> 0.003287037 | L43: =Лист1!L43-Лист1!K43 -> 0.003275463 | M43: =Лист1!M43-Лист1!L43 -> 0.0033101852 | N43: =Лист1!N43-Лист1!M43 -> 0.0032638889 | O43: =Лист1!O43-Лист1!N43 -> 0.0033333333 | ... S43: =Лист1!S43-Лист1!R43 -> 0.0068518519 | T43: +32:19 | U43: 42
A44: 43 | B44: Бикмуллин Александр | C44: Казань, лично | E44: 3 | G44: 0.018078704 | H44: =Лист1!H44-Лист1!G44 -> 0.0028125 | I44: =Лист1!I44-Лист1!H44 -> 0.0028472222 | J44: =Лист1!J44-Лист1!I44 -> 0.0028009259 | K44: =Лист1!K44-Лист1!J44 -> 0.0028125 | L44: =Лист1!L44-Лист1!K44 -> 0.0028240741 | M44: =Лист1!M44-Лист1!L44 -> 0.0029398148 | N44: =Лист1!N44-Лист1!M44 -> 0.0028472222 | O44: =Лист1!O44-Лист1!N44 -> 0.0029166667 | ... S44: =Лист1!S44-Лист1!R44 -> 0.0087268519 | T44: +33:16 | U44: 43
A45: 44 | B45: Игнатьев Игорь | C45: Казань, лично | E45: 1 | F45: 1965 | G45: 0.016736111 | H45: =Лист1!H45-Лист1!G45 -> 0.0029282407 | I45: =Лист1!I45-Лист1!H45 -> 0.0030324074 | J45: =Лист1!J45-Лист1!I45 -> 0.0029398148 | K45: =Лист1!K45-Лист1!J45 -> 0.0029166667 | L45: =Лист1!L45-Лист1!K45 -> 0.0028703704 | M45: =Лист1!M45-Лист1!L45 -> 0.0028703704 | N45: =Лист1!N45-Лист1!M45 -> 0.002962963 | O45: =Лист1!O45-Лист1!N45 -> 0.002974537 | ... S45: =Лист1!S45-Лист1!R45 -> 0.0089814815 | T45: +33:46 | U45: 44
A46: 45 | B46: Паткин Денис | C46: Казань, лично | E46: 380 | G46: 0.015671296 | H46: =Лист1!H46-Лист1!G46 -> 0.003287037 | I46: =Лист1!I46-Лист1!H46 -> 0.0035069444 | J46: =Лист1!J46-Лист1!I46 -> 0.0034953704 | K46: =Лист1!K46-Лист1!J46 -> 0.0033796296 | L46: =Лист1!L46-Лист1!K46 -> 0.0035185185 | M46: =Лист1!M46-Лист1!L46 -> 0.0034953704 | N46: =Лист1!N46-Лист1!M46 -> 0.0034143519 | O46: =Лист1!O46-Лист1!N46 -> 0.0034259259 | ... S46: =Лист1!S46-Лист1!R46 -> 0.0067013889 | T46: +34:01 | U46: 45
A47: 46 | B47: Федотов Игорь | C47: Уфа, лично | E47: 118 | F47: 1979 | G47: 0.012164352 | H47: =Лист1!H47-Лист1!G47 -> 0.0032175926 | I47: =Лист1!I47-Лист1!H47 -> 0.0030208333 | J47: =Лист1!J47-Лист1!I47 -> 0.0071759259 | K47: =Лист1!K47-Лист1!J47 -> 0.0093171296 | L47: =Лист1!L47-Лист1!K47 -> 0.0029976852 | M47: =Лист1!M47-Лист1!L47 -> 0.0031481481 | N47: =Лист1!N47-Лист1!M47 -> 0.0029398148 | O47: =Лист1!O47-Лист1!N47 -> 0.0032291667 | ... S47: =Лист1!S47-Лист1!R47 -> 0.0074652778 | T47: +40:48 | U47: 46
A48: 47 | B48: Карамов Артур | C48: Казань, лично | E48: 95 | F48: 1984 | G48: 0.019247685 | H48: =Лист1!H48-Лист1!G48 -> 0.0033912037 | I48: =Лист1!I48-Лист1!H48 -> 0.0031018519 | J48: =Лист1!J48-Лист1!I48 -> 0.0030902778 | K48: =Лист1!K48-Лист1!J48 -> 0.0030208333 | L48: =Лист1!L48-Лист1!K48 -> 0.0031134259 | M48: =Лист1!M48-Лист1!L48 -> 0.0030902778 | N48: =Лист1!N48-Лист1!M48 -> 0.0030555556 | O48: =Лист1!O48-Лист1!N48 -> 0.0032175926 | ... S48: =Лист1!S48-Лист1!R48 -> 0.009224537 | T48: +41:09 | U48: 47
A49: 48 | B49: Карасик Роман | C49: Казань | E49: 96 | F49: 1978 | G49: 0.023483796 | H49: =Лист1!H49-Лист1!G49 -> 0.0035648148 | I49: =Лист1!I49-Лист1!H49 -> 0.0035648148 | J49: =Лист1!J49-Лист1!I49 -> 0.0035069444 | K49: =Лист1!K49-Лист1!J49 -> 0.0036574074 | L49: =Лист1!L49-Лист1!K49 -> 0.0035185185 | M49: =Лист1!M49-Лист1!L49 -> 0.0033796296 | N49: =Лист1!N49-Лист1!M49 -> 0.0034375 | O49: =Лист1!O49-Лист1!N49 -> 0.0034027778 | ... S49: =Лист1!S49-Лист1!R49 -> 0.011689815 | T49: +56:30 | U49: 48

Sheet по видам
A1: №п/п | B1: Фамилия, имя | C1: Коллектив | D1: Квал | E1: Номер | F1: ГР | G1: плавание | H1: Место на этапе | I1: вело | J1: Место на этапе | K1: бег | L1: Место на этапе | M1: Отставание | N1: Место
A2: 1 | B2: Евграфов Роман | C2: Казань, лично | D2: I | E2: 59 | F2: 1981 | G2: 0.0066782407 | H2: 1 | I2: =Лист1!Q2-Лист1!G2 -> 0.024143519 | J2: 1 | K2: =Лист1!S2-Лист1!Q2 -> 0.009837963 | L2: 2 | M2: +00:00 | N2: 1
A3: 2 | B3: Новиков Сергей | C3: Казань, лично | D3: I | E3: 62 | F3: 1970 | G3: 0.0074305556 | H3: 2 | I3: =Лист1!Q3-Лист1!G3 -> 0.024166667 | J3: 2 | K3: =Лист1!S3-Лист1!Q3 -> 0.012048611 | L3: 15 | M3: +04:18 | N3: 2
A4: 3 | B4: Исмагилов Ильнар | C4: Казань, лично | E4: 93 | F4: 1983 | G4: 0.0087384259 | H4: 5 | I4: =Лист1!Q4-Лист1!G4 -> 0.025046296 | J4: 3 | K4: =Лист1!S4-Лист1!Q4 -> 0.011354167 | L4: 10 | M4: +06:27 | N4: 3
A5: 4 | B5: Круглов Сергей | C5: Казань, лично | D5: III | E5: 99 | F5: 1983 | G5: 0.0091435185 | H5: 6 | I5: =Лист1!Q5-Лист1!G5 -> 0.025590278 | J5: 7 | K5: =Лист1!S5-Лист1!Q5 -> 0.01224537 | L5: 18 | M5: +09:06 | N5: 4
A6: 5 | B6: Соколов Вячеслав | C6: Нижнекамский р-н, ли | E6: 113 | F6: 1982 | G6: 0.0097800926 | H6: 7 | I6: =Лист1!Q6-Лист1!G6 -> 0.027164352 | J6: 13 | K6: =Лист1!S6-Лист1!Q6 -> 0.010439815 | L6: 6 | M6: +09:41 | N6: 5
A7: 6 | B7: Белозерцева Марина | C7: Киров, лично | E7: 82 | F7: 1990 | G7: 0.011018519 | H7: 10 | I7: =Лист1!Q7-Лист1!G7 -> 0.025196759 | J7: 5 | K7: =Лист1!S7-Лист1!Q7 -> 0.011493056 | L7: 11 | M7: +10:09 | N7: 6
A8: 7 | B8: Гридин Вечеслав | C8: Казань, лично | D8: III | E8: 88 | F8: 1979 | G8: 0.0085416667 | H8: 3 | I8: =Лист1!Q8-Лист1!G8 -> 0.0271875 | J8: 14 | K8: =Лист1!S8-Лист1!Q8 -> 0.012337963 | L8: 19 | M8: +10:40 | N8: 7
A9: 8 | B9: Андреев Артем | C9: ДЮЦ'Роза ветров' | E9: 7 | F9: 1999 | G9: 0.008587963 | H9: 4 | I9: =Лист1!Q9-Лист1!G9 -> 0.029305556 | J9: 26 | K9: =Лист1!S9-Лист1!Q9 -> 0.010451389 | L9: 7 | M9: +11:04 | N9: 8
A10: 9 | B10: Леушин Василий | C10: Х-Киров | E10: 102 | F10: 1982 | G10: 0.012546296 | H10: 20 | I10: =Лист1!Q10-Лист1!G10 -> 0.026238426 | J10: 8 | K10: =Лист1!S10-Лист1!Q10 -> 0.010127315 | L10: 3 | M10: +11:53 | N10: 9
A11: 10 | B11: Федоров Сергей | C11: Йошкар-Ола, лично | E11: 117 | F11: 1978 | G11: 0.011446759 | H11: 13 | I11: =Лист1!Q11-Лист1!G11 -> 0.025127315 | J11: 4 | K11: =Лист1!S11-Лист1!Q11 -> 0.012534722 | L11: 21 | M11: +12:10 | N11: 10
A12: 11 | B12: Латыпов Эльдар | C12: Нижнекамский р-н, ли | E12: 101 | F12: 1986 | G12: 0.011238426 | H12: 11 | I12: =Лист1!Q12-Лист1!G12 -> 0.027291667 | J12: 16 | K12: =Лист1!S12-Лист1!Q12 -> 0.011238426 | L12: 8 | M12: +13:07 | N12: 11
A13: 12 | B13: Носов Михаил | C13: Россия, лично | E13: 108 | F13: 1980 | G13: 0.010891204 | H13: 9 | I13: =Лист1!Q13-Лист1!G13 -> 0.025324074 | J13: 6 | K13: =Лист1!S13-Лист1!Q13 -> 0.013761574 | L13: 29 | M13: +13:25 | N13: 12
A14: 13 | B14: Марьин Александр | C14: Зеленодольский р-н, | E14: 61 | F14: 1986 | G14: 0.01224537 | H14: 18 | I14: =Лист1!Q14-Лист1!G14 -> 0.027939815 | J14: 20 | K14: =Лист1!S14-Лист1!Q14 -> 0.010335648 | L14: 5 | M14: +14:12 | N14: 13
A15: 14 | B15: Сидоров Алексей | C15: КДЮСШ Мотор | D15: I | E15: 65 | F15: 1985 | G15: 0.015011574 | H15: 32 | I15: =Лист1!Q15-Лист1!G15 -> 0.026412037 | J15: 9 | K15: =Лист1!S15-Лист1!Q15 -> 0.0096296296 | L15: 1 | M15: +14:58 | N15: 14
A16: 15 | B16: Михайлов Игорь | C16: ДЮЦ'Роза ветров' | E16: 103 | F16: 1988 | G16: 0.012326389 | H16: 19 | I16: =Лист1!Q16-Лист1!G16 -> 0.02806713 | J16: 21 | K16: =Лист1!S16-Лист1!Q16 -> 0.011631944 | L16: 12 | M16: +16:22 | N16: 15
A17: 16 | B17: Осипов Денис | C17: Чебоксары, лично | E17: 63 | F17: 1985 | G17: 0.011805556 | H17: 14 | I17: =Лист1!Q17-Лист1!G17 -> 0.027280093 | J17: 15 | K17: =Лист1!S17-Лист1!Q17 -> 0.013622685 | L17: 27 | M17: +17:21 | N17: 16
A18: 17 | B18: Болотов Алексей | C18: Тукаевский р-н, личн | E18: 83 | F18: 1982 | G18: 0.011400463 | H18: 12 | I18: =Лист1!Q18-Лист1!G18 -> 0.029710648 | J18: 30 | K18: =Лист1!S18-Лист1!Q18 -> 0.012210648 | L18: 16 | M18: +18:14 | N18: 17
A19: 18 | B19: Сибгатуллин Ленар | C19: Казань, лично | E19: 112 | F19: 1977 | G19: 0.012928241 | H19: 25 | I19: =Лист1!Q19-Лист1!G19 -> 0.027326389 | J19: 17 | K19: =Лист1!S19-Лист1!Q19 -> 0.014178241 | L19: 34 | M19: +19:50 | N19: 18
A20: 19 | B20: Якупов Марат | C20: Казань, лично | D20: III | E20: 122 | F20: 1981 | G20: 0.012847222 | H20: 24 | I20: =Лист1!Q20-Лист1!G20 -> 0.026863426 | J20: 12 | K20: =Лист1!S20-Лист1!Q20 -> 0.014768519 | L20: 37 | M20: +19:54 | N20: 19
A21: 20 | B21: Ерилеев Николай | C21: Казань, лично | D21: III | E21: 89 | F21: 1977 | G21: 0.010428241 | H21: 8 | I21: =Лист1!Q21-Лист1!G21 -> 0.031296296 | J21: 37 | K21: =Лист1!S21-Лист1!Q21 -> 0.013020833 | L21: 24 | M21: +20:17 | N21: 20
A22: 21 | B22: Исупов Алексей | C22: Казань, лично | D22: III | E22: 73 | F22: 1957 | G22: 0.01369213 | H22: 29 | I22: =Лист1!Q22-Лист1!G22 -> 0.029305556 | J22: 27 | K22: =Лист1!S22-Лист1!Q22 -> 0.012002315 | L22: 14 | M22: +20:39 | N22: 21
A23: 22 | B23: Андреев Михаил | C23: ДВВС | D23: I | E23: 69 | F23: 1965 | G23: 0.012627315 | H23: 22 | I23: =Лист1!Q23-Лист1!G23 -> 0.028553241 | J23: 23 | K23: =Лист1!S23-Лист1!Q23 -> 0.013865741 | L23: 32 | M23: +20:43 | N23: 22
A24: 23 | B24: Быков Алексей | C24: Казань, лично | E24: 84 | F24: 1983 | G24: 0.012673611 | H24: 23 | I24: =Лист1!Q24-Лист1!G24 -> 0.028645833 | J24: 24 | K24: =Лист1!S24-Лист1!Q24 -> 0.013761574 | L24: 28 | M24: +20:46 | N24: 23
A25: 24 | B25: Ванеев Даниил | C25: Казань, лично | E25: 57 | F25: 1982 | G25: 0.01630787 | H25: 42 | I25: =Лист1!Q25-Лист1!G25 -> 0.026435185 | J25: 11 | K25: =Лист1!S25-Лист1!Q25 -> 0.012604167 | L25: 22 | M25: +21:09 | N25: 24
A26: 25 | B26: Саляхов Рамиль | C26: Казань, лично | E26: 111 | F26: 1981 | G26: 0.0134375 | H26: 27 | I26: =Лист1!Q26-Лист1!G26 -> 0.026423611 | J26: 10 | K26: =Лист1!S26-Лист1!Q26 -> 0.015671296 | L26: 40 | M26: +21:25 | N26: 25
A27: 26 | B27: Петров Лев | C27: Козловский р-н, личн | E27: 76 | F27: 1958 | G27: 0.013668981 | H27: 28 | I27: =Лист1!Q27-Лист1!G27 -> 0.027465278 | J27: 18 | K27: =Лист1!S27-Лист1!Q27 -> 0.014872685 | L27: 39 | M27: +22:06 | N27: 26
A28: 27 | B28: Хайруллин Рустем | C28: Казань, лично | E28: 120 | F28: 1986 | G28: 0.015844907 | H28: 37 | I28: =Лист1!Q28-Лист1!G28 -> 0.028310185 | J28: 22 | K28: =Лист1!S28-Лист1!Q28 -> 0.011863426 | L28: 13 | M28: +22:07 | N28: 27
A29: 28 | B29: Хуснуллин Ринат | C29: Казань, лично | E29: 121 | F29: 1991 | G29: 0.01625 | H29: 41 | I29: =Лист1!Q29-Лист1!G29 -> 0.027604167 | J29: 19 | K29: =Лист1!S29-Лист1!Q29 -> 0.012847222 | L29: 23 | M29: +23:06 | N29: 28
A30: 29 | B30: Пашонин Андрей | C30: Казань, лично | E30: 109 | F30: 1984 | G30: 0.01255787 | H30: 21 | I30: =Лист1!Q30-Лист1!G30 -> 0.029675926 | J30: 28 | K30: =Лист1!S30-Лист1!Q30 -> 0.015740741 | L30: 42 | M30: +24:56 | N30: 29
A31: 30 | B31: Загидуллин Булат | C31: Казань, лично | E31: 90 | F31: 1988 | G31: 0.013425926 | H31: 26 | I31: =Лист1!Q31-Лист1!G31 -> 0.032395833 | J31: 40 | K31: =Лист1!S31-Лист1!Q31 -> 0.01244213 | L31: 20 | M31: +25:21 | N31: 30
A32: 31 | B32: Валиев Марат | C32: СК Циклон | E32: 85 | F32: 1985 | G32: 0.01556713 | H32: 33 | I32: =Лист1!Q32-Лист1!G32 -> 0.030729167 | J32: 34 | K32: =Лист1!S32-Лист1!Q32 -> 0.012233796 | L32: 17 | M32: +25:44 | N32: 31
A33: 32 | B33: Таузари Нариман | C33: Казань, лично | E33: 115 | F33: 1974 | G33: 0.014166667 | H33: 30 | I33: =Лист1!Q33-Лист1!G33 -> 0.030474537 | J33: 32 | K33: =Лист1!S33-Лист1!Q33 -> 0.013935185 | L33: 33 | M33: +25:48 | N33: 32
A34: 33 | B34: Исупов Павел | C34: Казань, лично | D34: III | E34: 94 | F34: 1983 | G34: 0.014548611 | H34: 31 | I34: =Лист1!Q34-Лист1!G34 -> 0.030729167 | J34: 33 | K34: =Лист1!S34-Лист1!Q34 -> 0.013530093 | L34: 26 | M34: +26:08 | N34: 33
A35: 34 | B35: Шуртыгин Дмитрий | C35: Чебоксары, лично | E35: 20 | G35: 0.01556713 | H35: 34 | I35: =Лист1!Q35-Лист1!G35 -> 0.031226852 | J35: 36 | K35: =Лист1!S35-Лист1!Q35 -> 0.013078704 | L35: 25 | M35: +27:40 | N35: 34
A36: 35 | B36: Пережогин Алексей | C36: Казань, лично | E36: 382 | G36: 0.015833333 | H36: 36 | I36: =Лист1!Q36-Лист1!G36 -> 0.030300926 | J36: 31 | K36: =Лист1!S36-Лист1!Q36 -> 0.014768519 | L36: 36 | M36: +29:09 | N36: 35
A37: 36 | B37: Багабиев Линар | C37: Казань, лично | E37: 2 | G37: 0.016493056 | H37: 43 | I37: =Лист1!Q37-Лист1!G37 -> 0.030787037 | J37: 35 | K37: =Лист1!S37-Лист1!Q37 -> 0.01380787 | L37: 31 | M37: +29:25 | N37: 36
A38: 37 | B38: Гришин Тарас | C38: Казань, лично | D38: III | E38: 78 | F38: 1970 | G38: 0.011875 | H38: 15 | I38: =Лист1!Q38-Лист1!G38 -> 0.033657407 | J38: 42 | K38: =Лист1!S38-Лист1!Q38 -> 0.01568287 | L38: 41 | M38: +29:36 | N38: 37
A39: 38 | B39: Петров Дмитрий | C39: ЦДЮТиЭ Сов. р-на | D39: I | E39: 64 | F39: 1994 | G39: 0.016076389 | H39: 39 | I39: =Лист1!Q39-Лист1!G39 -> 0.034375 | J39: 44 | K39: =Лист1!S39-Лист1!Q39 -> 0.011319444 | L39: 9 | M39: +30:24 | N39: 38
A40: 39 | B40: Алдров Николай | C40: ДЮЦ'Роза ветров' | E40: 79 | F40: 1989 | G40: 0.012060185 | H40: 16 | I40: =Лист1!Q40-Лист1!G40 -> 0.033819444 | J40: 43 | K40: =Лист1!S40-Лист1!Q40 -> 0.016030093 | L40: 44 | M40: +30:36 | N40: 39
A41: 40 | B41: Коновалов Никита | C41: КДЮСШ Мотор | D41: КМС | E41: 40 | F41: 1995 | G41: 0.016076389 | H41: 40 | I41: =Лист1!Q41-Лист1!G41 -> 0.036215278 | J41: 47 | K41: =Лист1!S41-Лист1!Q41 -> 0.010266204 | L41: 4 | M41: +31:32 | N41: 40
A42: 41 | B42: Перфильев Андрей | C42: Казань, лично | E42: 999 | F42: 1981 | G42: 0.0159375 | H42: 38 | I42: =Лист1!Q42-Лист1!G42 -> 0.0321875 | J42: 39 | K42: =Лист1!S42-Лист1!Q42 -> 0.014780093 | L42: 38 | M42: +32:02 | N42: 41
A43: 42 | B43: Яманов Игорь | C43: ДДЮТиЭ Простор | E43: 123 | F43: 1994 | G43: 0.016840278 | H43: 45 | I43: =Лист1!Q43-Лист1!G43 -> 0.032476852 | J43: 41 | K43: =Лист1!S43-Лист1!Q43 -> 0.013784722 | L43: 30 | M43: +32:19 | N43: 42
A44: 43 | B44: Бикмуллин Александр | C44: Казань, лично | E44: 3 | G44: 0.018078704 | H44: 46 | I44: =Лист1!Q44-Лист1!G44 -> 0.028715278 | J44: 25 | K44: =Лист1!S44-Лист1!Q44 -> 0.016967593 | L44: 45 | M44: +33:16 | N44: 43
A45: 44 | B45: Игнатьев Игорь | C45: Казань, лично | E45: 1 | F45: 1965 | G45: 0.016736111 | H45: 44 | I45: =Лист1!Q45-Лист1!G45 -> 0.0296875 | J45: 29 | K45: =Лист1!S45-Лист1!Q45 -> 0.017685185 | L45: 46 | M45: +33:46 | N45: 44
A46: 45 | B46: Паткин Денис | C46: Казань, лично | E46: 380 | G46: 0.015671296 | H46: 35 | I46: =Лист1!Q46-Лист1!G46 -> 0.034398148 | J46: 45 | K46: =Лист1!S46-Лист1!Q46 -> 0.014212963 | L46: 35 | M46: +34:01 | N46: 45
A47: 46 | B47: Федотов Игорь | C47: Уфа, лично | E47: 118 | F47: 1979 | G47: 0.012164352 | H47: 17 | I47: =Лист1!Q47-Лист1!G47 -> 0.041006944 | J47: 48 | K47: =Лист1!S47-Лист1!Q47 -> 0.015821759 | L47: 43 | M47: +40:48 | N47: 46
A48: 47 | B48: Карамов Артур | C48: Казань, лично | E48: 95 | F48: 1984 | G48: 0.019247685 | H48: 47 | I48: =Лист1!Q48-Лист1!G48 -> 0.031458333 | J48: 38 | K48: =Лист1!S48-Лист1!Q48 -> 0.018530093 | L48: 47 | M48: +41:09 | N48: 47
A49: 48 | B49: Карасик Роман | C49: Казань | E49: 96 | F49: 1978 | G49: 0.023483796 | H49: 48 | I49: =Лист1!Q49-Лист1!G49 -> 0.03494213 | J49: 46 | K49: =Лист1!S49-Лист1!Q49 -> 0.021469907 | L49: 48 | M49: +56:30 | N49: 48

Sheet по видам (2)
A1: №п/п | B1: Фамилия, имя | C1: Коллектив | D1: Квал | E1: Номер | F1: ГР | G1: плавание | H1: Место на этапе | I1: вело | J1: Место на этапе | K1: бег | L1: Место на этапе | M1: Отставание | N1: Место
A2: 1 | B2: Евграфов Роман | C2: Казань, лично | D2: I | E2: 59 | F2: 1981 | G2: 0.0066782407 | H2: 1 | I2: =Лист1!Q2-Лист1!G2 -> 0.024143519 | J2: 1 | K2: =Лист1!S2-Лист1!Q2 -> 0.009837963 | L2: 2 | M2: +00:00 | N2: 1
A3: 2 | B3: Новиков Сергей | C3: Казань, лично | D3: I | E3: 62 | F3: 1970 | G3: 0.0074305556 | H3: 2 | I3: =Лист1!Q3-Лист1!G3 -> 0.024166667 | J3: 2 | K3: =Лист1!S3-Лист1!Q3 -> 0.012048611 | L3: 15 | M3: +04:18 | N3: 2
A4: 3 | B4: Исмагилов Ильнар | C4: Казань, лично | E4: 93 | F4: 1983 | G4: 0.0087384259 | H4: 5 | I4: =Лист1!Q4-Лист1!G4 -> 0.025046296 | J4: 3 | K4: =Лист1!S4-Лист1!Q4 -> 0.011354167 | L4: 10 | M4: +06:27 | N4: 3
A5: 4 | B5: Круглов Сергей | C5: Казань, лично | D5: III | E5: 99 | F5: 1983 | G5: 0.0091435185 | H5: 6 | I5: =Лист1!Q5-Лист1!G5 -> 0.025590278 | J5: 7 | K5: =Лист1!S5-Лист1!Q5 -> 0.01224537 | L5: 18 | M5: +09:06 | N5: 4
A6: 5 | B6: Соколов Вячеслав | C6: Нижнекамский р-н, ли | E6: 113 | F6: 1982 | G6: 0.0097800926 | H6: 7 | I6: =Лист1!Q6-Лист1!G6 -> 0.027164352 | J6: 13 | K6: =Лист1!S6-Лист1!Q6 -> 0.010439815 | L6: 6 | M6: +09:41 | N6: 5
A7: 6 | B7: Белозерцева Марина | C7: Киров, лично | E7: 82 | F7: 1990 | G7: 0.011018519 | H7: 10 | I7: =Лист1!Q7-Лист1!G7 -> 0.025196759 | J7: 5 | K7: =Лист1!S7-Лист1!Q7 -> 0.011493056 | L7: 11 | M7: +10:09 | N7: 6
A8: 7 | B8: Гридин Вечеслав | C8: Казань, лично | D8: III | E8: 88 | F8: 1979 | G8: 0.0085416667 | H8: 3 | I8: =Лист1!Q8-Лист1!G8 -> 0.0271875 | J8: 14 | K8: =Лист1!S8-Лист1!Q8 -> 0.012337963 | L8: 19 | M8: +10:40 | N8: 7
A9: 8 | B9: Андреев Артем | C9: ДЮЦ'Роза ветров' | E9: 7 | F9: 1999 | G9: 0.008587963 | H9: 4 | I9: =Лист1!Q9-Лист1!G9 -> 0.029305556 | J9: 26 | K9: =Лист1!S9-Лист1!Q9 -> 0.010451389 | L9: 7 | M9: +11:04 | N9: 8
A10: 9 | B10: Леушин Василий | C10: Х-Киров | E10: 102 | F10: 1982 | G10: 0.012546296 | H10: 20 | I10: =Лист1!Q10-Лист1!G10 -> 0.026238426 | J10: 8 | K10: =Лист1!S10-Лист1!Q10 -> 0.010127315 | L10: 3 | M10: +11:53 | N10: 9
A11: 10 | B11: Федоров Сергей | C11: Йошкар-Ола, лично | E11: 117 | F11: 1978 | G11: 0.011446759 | H11: 13 | I11: =Лист1!Q11-Лист1!G11 -> 0.025127315 | J11: 4 | K11: =Лист1!S11-Лист1!Q11 -> 0.012534722 | L11: 21 | M11: +12:10 | N11: 10
A12: 11 | B12: Латыпов Эльдар | C12: Нижнекамский р-н, ли | E12: 101 | F12: 1986 | G12: 0.011238426 | H12: 11 | I12: =Лист1!Q12-Лист1!G12 -> 0.027291667 | J12: 16 | K12: =Лист1!S12-Лист1!Q12 -> 0.011238426 | L12: 8 | M12: +13:07 | N12: 11
A13: 12 | B13: Носов Михаил | C13: Россия, лично | E13: 108 | F13: 1980 | G13: 0.010891204 | H13: 9 | I13: =Лист1!Q13-Лист1!G13 -> 0.025324074 | J13: 6 | K13: =Лист1!S13-Лист1!Q13 -> 0.013761574 | L13: 29 | M13: +13:25 | N13: 12
A14: 13 | B14: Марьин Александр | C14: Зеленодольский р-н, | E14: 61 | F14: 1986 | G14: 0.01224537 | H14: 18 | I14: =Лист1!Q14-Лист1!G14 -> 0.027939815 | J14: 20 | K14: =Лист1!S14-Лист1!Q14 -> 0.010335648 | L14: 5 | M14: +14:12 | N14: 13
A15: 14 | B15: Сидоров Алексей | C15: КДЮСШ Мотор | D15: I | E15: 65 | F15: 1985 | G15: 0.015011574 | H15: 32 | I15: =Лист1!Q15-Лист1!G15 -> 0.026412037 | J15: 9 | K15: =Лист1!S15-Лист1!Q15 -> 0.0096296296 | L15: 1 | M15: +14:58 | N15: 14
A16: 15 | B16: Михайлов Игорь | C16: ДЮЦ'Роза ветров' | E16: 103 | F16: 1988 | G16: 0.012326389 | H16: 19 | I16: =Лист1!Q16-Лист1!G16 -> 0.02806713 | J16: 21 | K16: =Лист1!S16-Лист1!Q16 -> 0.011631944 | L16: 12 | M16: +16:22 | N16: 15
A17: 16 | B17: Осипов Денис | C17: Чебоксары, лично | E17: 63 | F17: 1985 | G17: 0.011805556 | H17: 14 | I17: =Лист1!Q17-Лист1!G17 -> 0.027280093 | J17: 15 | K17: =Лист1!S17-Лист1!Q17 -> 0.013622685 | L17: 27 | M17: +17:21 | N17: 16
A18: 17 | B18: Болотов Алексей | C18: Тукаевский р-н, личн | E18: 83 | F18: 1982 | G18: 0.011400463 | H18: 12 | I18: =Лист1!Q18-Лист1!G18 -> 0.029710648 | J18: 30 | K18: =Лист1!S18-Лист1!Q18 -> 0.012210648 | L18: 16 | M18: +18:14 | N18: 17
A19: 18 | B19: Сибгатуллин Ленар | C19: Казань, лично | E19: 112 | F19: 1977 | G19: 0.012928241 | H19: 25 | I19: =Лист1!Q19-Лист1!G19 -> 0.027326389 | J19: 17 | K19: =Лист1!S19-Лист1!Q19 -> 0.014178241 | L19: 34 | M19: +19:50 | N19: 18
A20: 19 | B20: Якупов Марат | C20: Казань, лично | D20: III | E20: 122 | F20: 1981 | G20: 0.012847222 | H20: 24 | I20: =Лист1!Q20-Лист1!G20 -> 0.026863426 | J20: 12 | K20: =Лист1!S20-Лист1!Q20 -> 0.014768519 | L20: 37 | M20: +19:54 | N20: 19
A21: 20 | B21: Ерилеев Николай | C21: Казань, лично | D21: III | E21: 89 | F21: 1977 | G21: 0.010428241 | H21: 8 | I21: =Лист1!Q21-Лист1!G21 -> 0.031296296 | J21: 37 | K21: =Лист1!S21-Лист1!Q21 -> 0.013020833 | L21: 24 | M21: +20:17 | N21: 20
A22: 21 | B22: Исупов Алексей | C22: Казань, лично | D22: III | E22: 73 | F22: 1957 | G22: 0.01369213 | H22: 29 | I22: =Лист1!Q22-Лист1!G22 -> 0.029305556 | J22: 27 | K22: =Лист1!S22-Лист1!Q22 -> 0.012002315 | L22: 14 | M22: +20:39 | N22: 21
A23: 22 | B23: Андреев Михаил | C23: ДВВС | D23: I | E23: 69 | F23: 1965 | G23: 0.012627315 | H23: 22 | I23: =Лист1!Q23-Лист1!G23 -> 0.028553241 | J23: 23 | K23: =Лист1!S23-Лист1!Q23 -> 0.013865741 | L23: 32 | M23: +20:43 | N23: 22
A24: 23 | B24: Быков Алексей | C24: Казань, лично | E24: 84 | F24: 1983 | G24: 0.012673611 | H24: 23 | I24: =Лист1!Q24-Лист1!G24 -> 0.028645833 | J24: 24 | K24: =Лист1!S24-Лист1!Q24 -> 0.013761574 | L24: 28 | M24: +20:46 | N24: 23
A25: 24 | B25: Ванеев Даниил | C25: Казань, лично | E25: 57 | F25: 1982 | G25: 0.01630787 | H25: 42 | I25: =Лист1!Q25-Лист1!G25 -> 0.026435185 | J25: 11 | K25: =Лист1!S25-Лист1!Q25 -> 0.012604167 | L25: 22 | M25: +21:09 | N25: 24
A26: 25 | B26: Саляхов Рамиль | C26: Казань, лично | E26: 111 | F26: 1981 | G26: 0.0134375 | H26: 27 | I26: =Лист1!Q26-Лист1!G26 -> 0.026423611 | J26: 10 | K26: =Лист1!S26-Лист1!Q26 -> 0.015671296 | L26: 40 | M26: +21:25 | N26: 25
A27: 26 | B27: Петров Лев | C27: Козловский р-н, личн | E27: 76 | F27: 1958 | G27: 0.013668981 | H27: 28 | I27: =Лист1!Q27-Лист1!G27 -> 0.027465278 | J27: 18 | K27: =Лист1!S27-Лист1!Q27 -> 0.014872685 | L27: 39 | M27: +22:06 | N27: 26
A28: 27 | B28: Хайруллин Рустем | C28: Казань, лично | E28: 120 | F28: 1986 | G28: 0.015844907 | H28: 37 | I28: =Лист1!Q28-Лист1!G28 -> 0.028310185 | J28: 22 | K28: =Лист1!S28-Лист1!Q28 -> 0.011863426 | L28: 13 | M28: +22:07 | N28: 27
A29: 28 | B29: Хуснуллин Ринат | C29: Казань, лично | E29: 121 | F29: 1991 | G29: 0.01625 | H29: 41 | I29: =Лист1!Q29-Лист1!G29 -> 0.027604167 | J29: 19 | K29: =Лист1!S29-Лист1!Q29 -> 0.012847222 | L29: 23 | M29: +23:06 | N29: 28
A30: 29 | B30: Пашонин Андрей | C30: Казань, лично | E30: 109 | F30: 1984 | G30: 0.01255787 | H30: 21 | I30: =Лист1!Q30-Лист1!G30 -> 0.029675926 | J30: 28 | K30: =Лист1!S30-Лист1!Q30 -> 0.015740741 | L30: 42 | M30: +24:56 | N30: 29
A31: 30 | B31: Загидуллин Булат | C31: Казань, лично | E31: 90 | F31: 1988 | G31: 0.013425926 | H31: 26 | I31: =Лист1!Q31-Лист1!G31 -> 0.032395833 | J31: 40 | K31: =Лист1!S31-Лист1!Q31 -> 0.01244213 | L31: 20 | M31: +25:21 | N31: 30
A32: 31 | B32: Валиев Марат | C32: СК Циклон | E32: 85 | F32: 1985 | G32: 0.01556713 | H32: 33 | I32: =Лист1!Q32-Лист1!G32 -> 0.030729167 | J32: 34 | K32: =Лист1!S32-Лист1!Q32 -> 0.012233796 | L32: 17 | M32: +25:44 | N32: 31
A33: 32 | B33: Таузари Нариман | C33: Казань, лично | E33: 115 | F33: 1974 | G33: 0.014166667 | H33: 30 | I33: =Лист1!Q33-Лист1!G33 -> 0.030474537 | J33: 32 | K33: =Лист1!S33-Лист1!Q33 -> 0.013935185 | L33: 33 | M33: +25:48 | N33: 32
A34: 33 | B34: Исупов Павел | C34: Казань, лично | D34: III | E34: 94 | F34: 1983 | G34: 0.014548611 | H34: 31 | I34: =Лист1!Q34-Лист1!G34 -> 0.030729167 | J34: 33 | K34: =Лист1!S34-Лист1!Q34 -> 0.013530093 | L34: 26 | M34: +26:08 | N34: 33
A35: 34 | B35: Шуртыгин Дмитрий | C35: Чебоксары, лично | E35: 20 | G35: 0.01556713 | H35: 34 | I35: =Лист1!Q35-Лист1!G35 -> 0.031226852 | J35: 36 | K35: =Лист1!S35-Лист1!Q35 -> 0.013078704 | L35: 25 | M35: +27:40 | N35: 34
A36: 35 | B36: Пережогин Алексей | C36: Казань, лично | E36: 382 | G36: 0.015833333 | H36: 36 | I36: =Лист1!Q36-Лист1!G36 -> 0.030300926 | J36: 31 | K36: =Лист1!S36-Лист1!Q36 -> 0.014768519 | L36: 36 | M36: +29:09 | N36: 35
A37: 36 | B37: Багабиев Линар | C37: Казань, лично | E37: 2 | G37: 0.016493056 | H37: 43 | I37: =Лист1!Q37-Лист1!G37 -> 0.030787037 | J37: 35 | K37: =Лист1!S37-Лист1!Q37 -> 0.01380787 | L37: 31 | M37: +29:25 | N37: 36
A38: 37 | B38: Гришин Тарас | C38: Казань, лично | D38: III | E38: 78 | F38: 1970 | G38: 0.011875 | H38: 15 | I38: =Лист1!Q38-Лист1!G38 -> 0.033657407 | J38: 42 | K38: =Лист1!S38-Лист1!Q38 -> 0.01568287 | L38: 41 | M38: +29:36 | N38: 37
A39: 38 | B39: Петров Дмитрий | C39: ЦДЮТиЭ Сов. р-на | D39: I | E39: 64 | F39: 1994 | G39: 0.016076389 | H39: 39 | I39: =Лист1!Q39-Лист1!G39 -> 0.034375 | J39: 44 | K39: =Лист1!S39-Лист1!Q39 -> 0.011319444 | L39: 9 | M39: +30:24 | N39: 38
A40: 39 | B40: Алдров Николай | C40: ДЮЦ'Роза ветров' | E40: 79 | F40: 1989 | G40: 0.012060185 | H40: 16 | I40: =Лист1!Q40-Лист1!G40 -> 0.033819444 | J40: 43 | K40: =Лист1!S40-Лист1!Q40 -> 0.016030093 | L40: 44 | M40: +30:36 | N40: 39
A41: 40 | B41: Коновалов Никита | C41: КДЮСШ Мотор | D41: КМС | E41: 40 | F41: 1995 | G41: 0.016076389 | H41: 40 | I41: =Лист1!Q41-Лист1!G41 -> 0.036215278 | J41: 47 | K41: =Лист1!S41-Лист1!Q41 -> 0.010266204 | L41: 4 | M41: +31:32 | N41: 40
A42: 41 | B42: Перфильев Андрей | C42: Казань, лично | E42: 999 | F42: 1981 | G42: 0.0159375 | H42: 38 | I42: =Лист1!Q42-Лист1!G42 -> 0.0321875 | J42: 39 | K42: =Лист1!S42-Лист1!Q42 -> 0.014780093 | L42: 38 | M42: +32:02 | N42: 41
A43: 42 | B43: Яманов Игорь | C43: ДДЮТиЭ Простор | E43: 123 | F43: 1994 | G43: 0.016840278 | H43: 45 | I43: =Лист1!Q43-Лист1!G43 -> 0.032476852 | J43: 41 | K43: =Лист1!S43-Лист1!Q43 -> 0.013784722 | L43: 30 | M43: +32:19 | N43: 42
A44: 43 | B44: Бикмуллин Александр | C44: Казань, лично | E44: 3 | G44: 0.018078704 | H44: 46 | I44: =Лист1!Q44-Лист1!G44 -> 0.028715278 | J44: 25 | K44: =Лист1!S44-Лист1!Q44 -> 0.016967593 | L44: 45 | M44: +33:16 | N44: 43
A45: 44 | B45: Игнатьев Игорь | C45: Казань, лично | E45: 1 | F45: 1965 | G45: 0.016736111 | H45: 44 | I45: =Лист1!Q45-Лист1!G45 -> 0.0296875 | J45: 29 | K45: =Лист1!S45-Лист1!Q45 -> 0.017685185 | L45: 46 | M45: +33:46 | N45: 44
A46: 45 | B46: Паткин Денис | C46: Казань, лично | E46: 380 | G46: 0.015671296 | H46: 35 | I46: =Лист1!Q46-Лист1!G46 -> 0.034398148 | J46: 45 | K46: =Лист1!S46-Лист1!Q46 -> 0.014212963 | L46: 35 | M46: +34:01 | N46: 45
A47: 46 | B47: Федотов Игорь | C47: Уфа, лично | E47: 118 | F47: 1979 | G47: 0.012164352 | H47: 17 | I47: =Лист1!Q47-Лист1!G47 -> 0.041006944 | J47: 48 | K47: =Лист1!S47-Лист1!Q47 -> 0.015821759 | L47: 43 | M47: +40:48 | N47: 46
A48: 47 | B48: Карамов Артур | C48: Казань, лично | E48: 95 | F48: 1984 | G48: 0.019247685 | H48: 47 | I48: =Лист1!Q48-Лист1!G48 -> 0.031458333 | J48: 38 | K48: =Лист1!S48-Лист1!Q48 -> 0.018530093 | L48: 47 | M48: +41:09 | N48: 47
A49: 48 | B49: Карасик Роман | C49: Казань | E49: 96 | F49: 1978 | G49: 0.023483796 | H49: 48 | I49: =Лист1!Q49-Лист1!G49 -> 0.03494213 | J49: 46 | K49: =Лист1!S49-Лист1!Q49 -> 0.021469907 | L49: 48 | M49: +56:30 | N49: 48

Sheet Лист2

Sheet Лист3
