Workbook

Sheet по кругам
A1: №п/п | B1: Фамилия, имя | C1: Коллектив | D1: Квал | E1: Номер | F1: ГР | G1: плавание | H1: вело | I1: бег 1 кр | J1: бег 2 кр | K1: Отставание | L1: Место
A2: 1 | B2: Минин Сергей | C2: негонки | E2: 133 | F2: 1985 | G2: 0.010439815 | H2: 0.033645833 | I2: 0.038541667 | J2: 0.043263889 | K2: 0 | L2: 1
A3: 2 | B3: Исмагилов Ильнар | C3: SBR KAZAN | E3: 124 | F3: 1983 | G3: 0.0092824074 | H3: 0.033483796 | I3: 0.038784722 | J3: 0.044027778 | K3: =J3-J$2 -> 0.00076388889 | L3: 2
A4: 3 | B4: Круглов Сергей | C4: SBR KAZAN | E4: 127 | F4: 1983 | G4: 0.0080902778 | H4: 0.03275463 | I4: 0.038946759 | J4: 0.044583333 | K4: =J4-J$2 -> 0.0013194444 | L4: 3
A5: 4 | B5: Соколов Вячеслав | C5: Нижнекамский р-н, ли | E5: 139 | F5: 1982 | G5: 0.010810185 | H5: 0.035405093 | I5: 0.040451389 | J5: 0.045509259 | K5: =J5-J$2 -> 0.0022453704 | L5: 4
A6: 5 | B6: Леушин Василий | C6: Х-Киров | E6: 131 | F6: 1982 | G6: 0.011689815 | H6: 0.035833333 | I6: 0.041018519 | J6: 0.045694444 | K6: =J6-J$2 -> 0.0024305556 | L6: 5
A7: 6 | B7: Марьин Александр | C7: Зеленодольский р-н, | E7: 132 | F7: 1986 | G7: 0.012222222 | H7: 0.035011574 | I7: 0.040474537 | J7: 0.045844907 | K7: =J7-J$2 -> 0.0025810185 | L7: 6
A8: 7 | B8: Кузин Дмитрий | C8: Казань, лично | E8: 128 | F8: 1987 | G8: 0.011527778 | H8: 0.035821759 | I8: 0.041087963 | J8: 0.046261574 | K8: =J8-J$2 -> 0.0029976852 | L8: 7
A9: 8 | B9: Таузари Нариман | C9: Казань, лично | E9: 141 | F9: 1974 | G9: 0.011099537 | H9: 0.035810185 | I9: 0.041064815 | J9: 0.046388889 | K9: =J9-J$2 -> 0.003125 | L9: 8
A10: 9 | B10: Чикаев Александр | C10: Волжский р-н, лично | D10: III | E10: 145 | F10: 1992 | G10: 0.011076389 | H10: 0.037847222 | I10: 0.043344907 | J10: 0.047800926 | K10: =J10-J$2 -> 0.004537037 | L10: 9
A11: 10 | B11: Иванов Максим | C11: Казань, лично | E11: 123 | F11: 1982 | G11: 0.013900463 | H11: 0.038148148 | I11: 0.04462963 | J11: 0.050324074 | K11: =J11-J$2 -> 0.0070601852 | L11: 10
A12: 11 | B12: Лаптев Роман | C12: Тандем | E12: 130 | F12: 1987 | G12: 0.01375 | H12: 0.040162037 | I12: 0.045972222 | J12: 0.051354167 | K12: =J12-J$2 -> 0.0080902778 | L12: 11
A13: 12 | B13: Зарипов Артур | C13: Казань, лично | E13: 122 | F13: 1988 | G13: 0.013090278 | H13: 0.039340278 | I13: 0.045613426 | J13: 0.0515625 | K13: =J13-J$2 -> 0.0082986111 | L13: 12
A14: 13 | B14: Сибгатуллин Ленар | C14: Казань, лично | E14: 138 | F14: 1977 | G14: 0.01224537 | H14: 0.038321759 | I14: 0.045266204 | J14: 0.051747685 | K14: =J14-J$2 -> 0.0084837963 | L14: 13
A15: 14 | B15: Ванеев Даниил | C15: Казань, лично | E15: 117 | F15: 1982 | G15: 0.01556713 | H15: 0.040868056 | I15: 0.046608796 | J15: 0.0521875 | K15: =J15-J$2 -> 0.0089236111 | L15: 14
A16: 15 | B16: Быков Алексей | C16: Казань, лично | E16: 115 | F16: 1983 | G16: 0.012916667 | H16: 0.041481481 | I16: 0.047488426 | J16: 0.053194444 | K16: =J16-J$2 -> 0.0099305556 | L16: 15
A17: 16 | B17: Ермаков Александр | C17: Казань, лично | E17: 119 | F17: 1990 | G17: 0.012743056 | H17: 0.041458333 | I17: 0.053287037 | J17: 0.053287037 | K17: =J17-J$2 -> 0.010023148 | L17: 16
A18: 17 | B18: Закиров Булат | C18: Казань, лично | E18: 121 | F18: 1986 | G18: 0.016585648 | H18: 0.042662037 | I18: 0.048981481 | J18: 0.054965278 | K18: =J18-J$2 -> 0.011701389 | L18: 17
A19: 18 | B19: Перфильев Андрей | C19: Зеленодольский р-н, | E19: 136 | F19: 1981 | G19: 0.014872685 | H19: 0.04337963 | I19: 0.049513889 | J19: 0.055277778 | K19: =J19-J$2 -> 0.012013889 | L19: 18
A20: 19 | B20: Бахтияров Амир | C20: негонки | E20: 111 | F20: 1997 | G20: 0.013842593 | H20: 0.047453704 | I20: 0.049953704 | J20: 0.056238426 | K20: =J20-J$2 -> 0.012974537 | L20: 19
A21: 20 | B21: Купан Тимур | C21: SBR KAZAN | E21: 129 | F21: 1977 | G21: 0.01193287 | H21: 0.045173611 | I21: 0.051898148 | J21: 0.057881944 | K21: =J21-J$2 -> 0.014618056 | L21: 20
A22: 21 | B22: Коськов Константин | C22: Альметьевск | D22: II | E22: 149 | F22: 1985 | G22: 0.015081019 | H22: 0.047592593 | I22: 0.052986111 | J22: 0.058333333 | K22: =J22-J$2 -> 0.015069444 | L22: 21
A23: 22 | B23: Беляев Глеб | C23: Казань, лично | E23: 112 | F23: 1988 | G23: 0.019548611 | H23: 0.044664352 | I23: 0.052106481 | J23: 0.059039352 | K23: =J23-J$2 -> 0.015775463 | L23: 22
A24: 23 | B24: Валиев Марат | C24: Россия, лично | D24: IIIю | E24: 116 | F24: 1985 | G24: 0.017696759 | H24: 0.047164352 | I24: 0.053726852 | J24: 0.059502315 | K24: =J24-J$2 -> 0.016238426 | L24: 23
A25: 24 | B25: Калманович Евгений | C25: КДЮСШ Мотор | D25: II | E25: 125 | F25: 1994 | G25: 0.022696759 | H25: 0.049895833 | I25: 0.055439815 | J25: 0.061342593 | K25: =J25-J$2 -> 0.018078704 | L25: 24
A26: 25 | B26: Багаутдинов Марат | C26: Казань, лично | D26: I | E26: 110 | F26: 1983 | G26: 0.013981481 | H26: 0.047337963 | I26: 0.05474537 | J26: 0.062395833 | K26: =J26-J$2 -> 0.019131944 | L26: 25
A27: 26 | B27: Соловьев Никита | C27: Казань, лично | E27: 140 | F27: 1992 | G27: 0.02068287 | H27: 0.050671296 | I27: 0.057256944 | J27: 0.063657407 | K27: =J27-J$2 -> 0.020393519 | L27: 26
A28: 27 | B28: Карамов Артур | C28: Казань, лично | E28: 126 | F28: 1984 | G28: 0.020335648 | H28: 0.0475 | I28: 0.057141204 | J28: 0.066435185 | K28: =J28-J$2 -> 0.023171296 | L28: 27
A29: 28 | B29: Аглиуллин Тимур | C29: Казань, лично | E29: 107 | F29: 1987 | G29: 0.017210648 | H29: 0.050613426 | I29: 0.059293981 | J29: 0.069074074 | K29: =J29-J$2 -> 0.025810185 | L29: 28
A30: 29 | B30: Ахметзянов Айдар | C30: SBR KAZAN | D30: II | E30: 109 | F30: 1986 | G30: 0.010208333 | H30: сошел
A31: 30 | B31: Федоров Сергей | C31: Йошкар-Ола, лично | E31: 142 | F31: 1978 | G31: 0.011458333 | H31: сошел
A32: 31 | B32: Гиматов Ильдар | C32: ДЮСШ-6 (Бригантина) | E32: 118 | F32: 1985 | G32: 0.013877315 | H32: сошел

Sheet по видам
A1: №п/п | B1: Фамилия, имя | C1: Коллектив | D1: Квал | E1: Номер | F1: ГР | G1: плавание | H1: Отставание от лидера этапа | I1: Место на этапе | J1: вело | K1: Отставание от лидера этапа | L1: Место на этапе | M1: бег | N1: Отставание от лидера этапа | O1: Место на этапе | P1: Результат | Q1: Отставание | R1: Место
A2: 1 | B2: Минин Сергей | C2: негонки | E2: 133 | F2: 1985 | G2: 0.010439815 | H2: 0.002349537 | I2: 4 | J2: ='по кругам'!H2-'по кругам'!G2 -> 0.023206019 | K2: 0.00041666667 | L2: 2 | M2: ='по кругам'!J2-'по кругам'!H2 -> 0.0096180556 | N2: 0.00083333333 | O2: 2 | P2: 0.043263889 | Q2: 0 | R2: 1
A3: 2 | B3: Исмагилов Ильнар | C3: SBR KAZAN | E3: 124 | F3: 1983 | G3: 0.0092824074 | H3: 0.0011921296 | I3: 2 | J3: ='по кругам'!H3-'по кругам'!G3 -> 0.024201389 | K3: 0.001412037 | L3: 4 | M3: ='по кругам'!J3-'по кругам'!H3 -> 0.010543981 | N3: 0.0017592593 | O3: 7 | P3: 0.044027778 | Q3: 0.00076388889 | R3: 2
A4: 3 | B4: Круглов Сергей | C4: SBR KAZAN | E4: 127 | F4: 1983 | G4: 0.0080902778 | H4: 0 | I4: 1 | J4: ='по кругам'!H4-'по кругам'!G4 -> 0.024664352 | K4: 0.001875 | L4: 8 | M4: ='по кругам'!J4-'по кругам'!H4 -> 0.011828704 | N4: 0.0030439815 | O4: 15 | P4: 0.044583333 | Q4: 0.0013194444 | R4: 3
A5: 4 | B5: Соколов Вячеслав | C5: Нижнекамский р-н, ли | E5: 139 | F5: 1982 | G5: 0.010810185 | H5: 0.0027199074 | I5: 5 | J5: ='по кругам'!H5-'по кругам'!G5 -> 0.024594907 | K5: 0.0018055556 | L5: 7 | M5: ='по кругам'!J5-'по кругам'!H5 -> 0.010104167 | N5: 0.0013194444 | O5: 5 | P5: 0.045509259 | Q5: 0.0022453704 | R5: 4
A6: 5 | B6: Леушин Василий | C6: Х-Киров | E6: 131 | F6: 1982 | G6: 0.011689815 | H6: 0.003599537 | I6: 10 | J6: ='по кругам'!H6-'по кругам'!G6 -> 0.024143519 | K6: 0.0013541667 | L6: 3 | M6: ='по кругам'!J6-'по кругам'!H6 -> 0.0098611111 | N6: 0.0010763889 | O6: 3 | P6: 0.045694444 | Q6: 0.0024305556 | R6: 5
A7: 6 | B7: Марьин Александр | C7: Зеленодольский р-н, | E7: 132 | F7: 1986 | G7: 0.012222222 | H7: 0.0041319444 | I7: 12 | J7: ='по кругам'!H7-'по кругам'!G7 -> 0.022789352 | K7: 0 | L7: 1 | M7: ='по кругам'!J7-'по кругам'!H7 -> 0.010833333 | N7: 0.0020486111 | O7: 10 | P7: 0.045844907 | Q7: 0.0025810185 | R7: 6
A8: 7 | B8: Кузин Дмитрий | C8: Казань, лично | E8: 128 | F8: 1987 | G8: 0.011527778 | H8: 0.0034375 | I8: 9 | J8: ='по кругам'!H8-'по кругам'!G8 -> 0.024293981 | K8: 0.0015046296 | L8: 6 | M8: ='по кругам'!J8-'по кругам'!H8 -> 0.010439815 | N8: 0.0016550926 | O8: 6 | P8: 0.046261574 | Q8: 0.0029976852 | R8: 7
A9: 8 | B9: Таузари Нариман | C9: Казань, лично | E9: 141 | F9: 1974 | G9: 0.011099537 | H9: 0.0030092593 | I9: 7 | J9: ='по кругам'!H9-'по кругам'!G9 -> 0.024710648 | K9: 0.0019212963 | L9: 9 | M9: ='по кругам'!J9-'по кругам'!H9 -> 0.010578704 | N9: 0.0017939815 | O9: 8 | P9: 0.046388889 | Q9: 0.003125 | R9: 8
A10: 9 | B10: Чикаев Александр | C10: Волжский р-н, лично | D10: III | E10: 145 | F10: 1992 | G10: 0.011076389 | H10: 0.0029861111 | I10: 6 | J10: ='по кругам'!H10-'по кругам'!G10 -> 0.026770833 | K10: 0.0039814815 | L10: 16 | M10: ='по кругам'!J10-'по кругам'!H10 -> 0.0099537037 | N10: 0.0011689815 | O10: 4 | P10: 0.047800926 | Q10: 0.004537037 | R10: 9
A11: 10 | B11: Иванов Максим | C11: Казань, лично | E11: 123 | F11: 1982 | G11: 0.013900463 | H11: 0.0058101852 | I11: 20 | J11: ='по кругам'!H11-'по кругам'!G11 -> 0.024247685 | K11: 0.0014583333 | L11: 5 | M11: ='по кругам'!J11-'по кругам'!H11 -> 0.012175926 | N11: 0.0033912037 | O11: 18 | P11: 0.050324074 | Q11: 0.0070601852 | R11: 10
A12: 11 | B12: Лаптев Роман | C12: Тандем | E12: 130 | F12: 1987 | G12: 0.01375 | H12: 0.0056597222 | I12: 17 | J12: ='по кругам'!H12-'по кругам'!G12 -> 0.026412037 | K12: 0.0036226852 | L12: 15 | M12: ='по кругам'!J12-'по кругам'!H12 -> 0.01119213 | N12: 0.0024074074 | O12: 11 | P12: 0.051354167 | Q12: 0.0080902778 | R12: 11
A13: 12 | B13: Зарипов Артур | C13: Казань, лично | E13: 122 | F13: 1988 | G13: 0.013090278 | H13: 0.005 | I13: 16 | J13: ='по кругам'!H13-'по кругам'!G13 -> 0.02625 | K13: 0.0034606481 | L13: 14 | M13: ='по кругам'!J13-'по кругам'!H13 -> 0.012222222 | N13: 0.0034375 | O13: 19 | P13: 0.0515625 | Q13: 0.0082986111 | R13: 12
A14: 13 | B14: Сибгатуллин Ленар | C14: Казань, лично | E14: 138 | F14: 1977 | G14: 0.01224537 | H14: 0.0041550926 | I14: 13 | J14: ='по кругам'!H14-'по кругам'!G14 -> 0.026076389 | K14: 0.003287037 | L14: 12 | M14: ='по кругам'!J14-'по кругам'!H14 -> 0.013425926 | N14: 0.0046412037 | O14: 24 | P14: 0.051747685 | Q14: 0.0084837963 | R14: 13
A15: 14 | B15: Ванеев Даниил | C15: Казань, лично | E15: 117 | F15: 1982 | G15: 0.01556713 | H15: 0.0074768519 | I15: 24 | J15: ='по кругам'!H15-'по кругам'!G15 -> 0.025300926 | K15: 0.0025115741 | L15: 11 | M15: ='по кругам'!J15-'по кругам'!H15 -> 0.011319444 | N15: 0.0025347222 | O15: 12 | P15: 0.0521875 | Q15: 0.0089236111 | R15: 14
A16: 15 | B16: Быков Алексей | C16: Казань, лично | E16: 115 | F16: 1983 | G16: 0.012916667 | H16: 0.0048263889 | I16: 15 | J16: ='по кругам'!H16-'по кругам'!G16 -> 0.028564815 | K16: 0.005775463 | L16: 20 | M16: ='по кругам'!J16-'по кругам'!H16 -> 0.011712963 | N16: 0.0029282407 | O16: 14 | P16: 0.053194444 | Q16: 0.0099305556 | R16: 15
A17: 16 | B17: Ермаков Александр | C17: Казань, лично | E17: 119 | F17: 1990 | G17: 0.012743056 | H17: 0.0046527778 | I17: 14 | J17: ='по кругам'!H17-'по кругам'!G17 -> 0.028715278 | K17: 0.0059259259 | L17: 21 | M17: ='по кругам'!J17-'по кругам'!H17 -> 0.011828704 | N17: 0.0030439815 | O17: 16 | P17: 0.053287037 | Q17: 0.010023148 | R17: 16
A18: 17 | B18: Закиров Булат | C18: Казань, лично | E18: 121 | F18: 1986 | G18: 0.016585648 | H18: 0.0084953704 | I18: 25 | J18: ='по кругам'!H18-'по кругам'!G18 -> 0.026076389 | K18: 0.003287037 | L18: 13 | M18: ='по кругам'!J18-'по кругам'!H18 -> 0.012303241 | N18: 0.0035185185 | O18: 20 | P18: 0.054965278 | Q18: 0.011701389 | R18: 17
A19: 18 | B19: Перфильев Андрей | C19: Зеленодольский р-н, | E19: 136 | F19: 1981 | G19: 0.014872685 | H19: 0.0067824074 | I19: 22 | J19: ='по кругам'!H19-'по кругам'!G19 -> 0.028506944 | K19: 0.0057175926 | L19: 19 | M19: ='по кругам'!J19-'по кругам'!H19 -> 0.011898148 | N19: 0.0031134259 | O19: 17 | P19: 0.055277778 | Q19: 0.012013889 | R19: 18
A20: 19 | B20: Бахтияров Амир | C20: негонки | E20: 111 | F20: 1997 | G20: 0.013842593 | H20: 0.0057523148 | I20: 18 | J20: ='по кругам'!H20-'по кругам'!G20 -> 0.033611111 | K20: 0.010821759 | L20: 28 | M20: ='по кругам'!J20-'по кругам'!H20 -> 0.0087847222 | N20: 0 | O20: 1 | P20: 0.056238426 | Q20: 0.012974537 | R20: 19
A21: 20 | B21: Купан Тимур | C21: SBR KAZAN | E21: 129 | F21: 1977 | G21: 0.01193287 | H21: 0.0038425926 | I21: 11 | J21: ='по кругам'!H21-'по кругам'!G21 -> 0.033240741 | K21: 0.010451389 | L21: 25 | M21: ='по кругам'!J21-'по кругам'!H21 -> 0.012708333 | N21: 0.0039236111 | O21: 22 | P21: 0.057881944 | Q21: 0.014618056 | R21: 20
A22: 21 | B22: Коськов Константин | C22: Альметьевск | D22: II | E22: 149 | F22: 1985 | G22: 0.015081019 | H22: 0.0069907407 | I22: 23 | J22: ='по кругам'!H22-'по кругам'!G22 -> 0.032511574 | K22: 0.0097222222 | L22: 24 | M22: ='по кругам'!J22-'по кругам'!H22 -> 0.010740741 | N22: 0.0019560185 | O22: 9 | P22: 0.058333333 | Q22: 0.015069444 | R22: 21
A23: 22 | B23: Беляев Глеб | C23: Казань, лично | E23: 112 | F23: 1988 | G23: 0.019548611 | H23: 0.011458333 | I23: 28 | J23: ='по кругам'!H23-'по кругам'!G23 -> 0.025115741 | K23: 0.0023263889 | L23: 10 | M23: ='по кругам'!J23-'по кругам'!H23 -> 0.014375 | N23: 0.0055902778 | O23: 25 | P23: 0.059039352 | Q23: 0.015775463 | R23: 22
A24: 23 | B24: Валиев Марат | C24: Россия, лично | D24: IIIю | E24: 116 | F24: 1985 | G24: 0.017696759 | H24: 0.0096064815 | I24: 27 | J24: ='по кругам'!H24-'по кругам'!G24 -> 0.029467593 | K24: 0.0066782407 | L24: 22 | M24: ='по кругам'!J24-'по кругам'!H24 -> 0.012337963 | N24: 0.0035532407 | O24: 21 | P24: 0.059502315 | Q24: 0.016238426 | R24: 23
A25: 24 | B25: Калманович Евгений | C25: КДЮСШ Мотор | D25: II | E25: 125 | F25: 1994 | G25: 0.022696759 | H25: 0.014606481 | I25: 31 | J25: ='по кругам'!H25-'по кругам'!G25 -> 0.027199074 | K25: 0.0044097222 | L25: 18 | M25: ='по кругам'!J25-'по кругам'!H25 -> 0.011446759 | N25: 0.002662037 | O25: 13 | P25: 0.061342593 | Q25: 0.018078704 | R25: 24
A26: 25 | B26: Багаутдинов Марат | C26: Казань, лично | D26: I | E26: 110 | F26: 1983 | G26: 0.013981481 | H26: 0.0058912037 | I26: 21 | J26: ='по кругам'!H26-'по кругам'!G26 -> 0.033356481 | K26: 0.01056713 | L26: 26 | M26: ='по кругам'!J26-'по кругам'!H26 -> 0.01505787 | N26: 0.0062731481 | O26: 26 | P26: 0.062395833 | Q26: 0.019131944 | R26: 25
A27: 26 | B27: Соловьев Никита | C27: Казань, лично | E27: 140 | F27: 1992 | G27: 0.02068287 | H27: 0.012592593 | I27: 30 | J27: ='по кругам'!H27-'по кругам'!G27 -> 0.029988426 | K27: 0.0071990741 | L27: 23 | M27: ='по кругам'!J27-'по кругам'!H27 -> 0.012986111 | N27: 0.0042013889 | O27: 23 | P27: 0.063657407 | Q27: 0.020393519 | R27: 26
A28: 27 | B28: Карамов Артур | C28: Казань, лично | E28: 126 | F28: 1984 | G28: 0.020335648 | H28: 0.01224537 | I28: 29 | J28: ='по кругам'!H28-'по кругам'!G28 -> 0.027164352 | K28: 0.004375 | L28: 17 | M28: ='по кругам'!J28-'по кругам'!H28 -> 0.018935185 | N28: 0.010150463 | O28: 28 | P28: 0.066435185 | Q28: 0.023171296 | R28: 27
A29: 28 | B29: Аглиуллин Тимур | C29: Казань, лично | E29: 107 | F29: 1987 | G29: 0.017210648 | H29: 0.0091203704 | I29: 26 | J29: ='по кругам'!H29-'по кругам'!G29 -> 0.033402778 | K29: 0.010613426 | L29: 27 | M29: ='по кругам'!J29-'по кругам'!H29 -> 0.018460648 | N29: 0.0096759259 | O29: 27 | P29: 0.069074074 | Q29: 0.025810185 | R29: 28
A30: 29 | B30: Ахметзянов Айдар | C30: SBR KAZAN | D30: II | E30: 109 | F30: 1986 | G30: 0.010208333 | H30: 0.0021180556 | I30: 3 | J30: сход | P30: DNF
A31: 30 | B31: Федоров Сергей | C31: Йошкар-Ола, лично | E31: 142 | F31: 1978 | G31: 0.011458333 | H31: 0.0033680556 | I31: 8 | J31: сход | P31: DNF
A32: 31 | B32: Гиматов Ильдар | C32: ДЮСШ-6 (Бригантина) | E32: 118 | F32: 1985 | G32: 0.013877315 | H32: 0.005787037 | I32: 19 | J32: сход | P32: DNF
